BEGIN:VCALENDAR
VERSION:2.0
PRODID:-//CALS Program | Emergency Medical Training for Rural Healthcare Teams - ECPv6.15.20//NONSGML v1.0//EN
CALSCALE:GREGORIAN
METHOD:PUBLISH
X-ORIGINAL-URL:https://www.calsprogram.org
X-WR-CALDESC:Events for CALS Program | Emergency Medical Training for Rural Healthcare Teams
REFRESH-INTERVAL;VALUE=DURATION:PT1H
X-Robots-Tag:noindex
X-PUBLISHED-TTL:PT1H
BEGIN:VTIMEZONE
TZID:UTC
BEGIN:STANDARD
TZOFFSETFROM:+0000
TZOFFSETTO:+0000
TZNAME:UTC
DTSTART:20170101T000000
END:STANDARD
END:VTIMEZONE
BEGIN:VEVENT
DTSTART;VALUE=DATE:20180910
DTEND;VALUE=DATE:20180911
DTSTAMP:20260422T070449
CREATED:20180807T180549Z
LAST-MODIFIED:20180807T180549Z
UID:741-1536537600-1536623999@www.calsprogram.org
SUMMARY:Trauma Module: Luverne\, MN
DESCRIPTION:This course is full.
URL:https://www.calsprogram.org/event/trauma-module-luverne-mn/
LOCATION:MN
CATEGORIES:Full,Minnesota,Trauma Module
END:VEVENT
END:VCALENDAR