BEGIN:VCALENDAR
VERSION:2.0
PRODID:-//CALS Program | Emergency Medical Training for Rural Healthcare Teams - ECPv6.15.20//NONSGML v1.0//EN
CALSCALE:GREGORIAN
METHOD:PUBLISH
X-WR-CALNAME:CALS Program | Emergency Medical Training for Rural Healthcare Teams
X-ORIGINAL-URL:https://www.calsprogram.org
X-WR-CALDESC:Events for CALS Program | Emergency Medical Training for Rural Healthcare Teams
REFRESH-INTERVAL;VALUE=DURATION:PT1H
X-Robots-Tag:noindex
X-PUBLISHED-TTL:PT1H
BEGIN:VTIMEZONE
TZID:UTC
BEGIN:STANDARD
TZOFFSETFROM:+0000
TZOFFSETTO:+0000
TZNAME:UTC
DTSTART:20180101T000000
END:STANDARD
END:VTIMEZONE
BEGIN:VEVENT
DTSTART;VALUE=DATE:20190401
DTEND;VALUE=DATE:20190403
DTSTAMP:20260421T133112
CREATED:20180816T185907Z
LAST-MODIFIED:20180816T185907Z
UID:911-1554076800-1554249599@www.calsprogram.org
SUMMARY:Provider Course: Bigfork\, MN
DESCRIPTION:This Course location is full.
URL:https://www.calsprogram.org/event/provider-course-bigfork-mn/
LOCATION:MN
CATEGORIES:Full,Minnesota,Provider Course
END:VEVENT
END:VCALENDAR