BEGIN:VCALENDAR
VERSION:2.0
PRODID:-//CALS Program | Emergency Medical Training for Rural Healthcare Teams - ECPv6.15.20//NONSGML v1.0//EN
CALSCALE:GREGORIAN
METHOD:PUBLISH
X-ORIGINAL-URL:https://www.calsprogram.org
X-WR-CALDESC:Events for CALS Program | Emergency Medical Training for Rural Healthcare Teams
REFRESH-INTERVAL;VALUE=DURATION:PT1H
X-Robots-Tag:noindex
X-PUBLISHED-TTL:PT1H
BEGIN:VTIMEZONE
TZID:UTC
BEGIN:STANDARD
TZOFFSETFROM:+0000
TZOFFSETTO:+0000
TZNAME:UTC
DTSTART:20180101T000000
END:STANDARD
END:VTIMEZONE
BEGIN:VEVENT
DTSTART;VALUE=DATE:20190406
DTEND;VALUE=DATE:20190408
DTSTAMP:20260421T134231
CREATED:20180816T190159Z
LAST-MODIFIED:20180816T190159Z
UID:913-1554508800-1554681599@www.calsprogram.org
SUMMARY:Provider Course: Ely\, MN
DESCRIPTION:This is course location is FULL – contact dana.bies@calsprogram.org to get on the Wait List.
URL:https://www.calsprogram.org/event/provider-course-ely-mn/
LOCATION:MN
CATEGORIES:Full,Minnesota,Provider Course
END:VEVENT
END:VCALENDAR