BEGIN:VCALENDAR
VERSION:2.0
PRODID:-//CALS Program | Emergency Medical Training for Rural Healthcare Teams - ECPv6.15.20//NONSGML v1.0//EN
CALSCALE:GREGORIAN
METHOD:PUBLISH
X-WR-CALNAME:CALS Program | Emergency Medical Training for Rural Healthcare Teams
X-ORIGINAL-URL:https://www.calsprogram.org
X-WR-CALDESC:Events for CALS Program | Emergency Medical Training for Rural Healthcare Teams
REFRESH-INTERVAL;VALUE=DURATION:PT1H
X-Robots-Tag:noindex
X-PUBLISHED-TTL:PT1H
BEGIN:VTIMEZONE
TZID:UTC
BEGIN:STANDARD
TZOFFSETFROM:+0000
TZOFFSETTO:+0000
TZNAME:UTC
DTSTART:20180101T000000
END:STANDARD
END:VTIMEZONE
BEGIN:VEVENT
DTSTART;VALUE=DATE:20190410
DTEND;VALUE=DATE:20190411
DTSTAMP:20260421T131922
CREATED:20180816T193731Z
LAST-MODIFIED:20180816T193731Z
UID:924-1554854400-1554940799@www.calsprogram.org
SUMMARY:Trauma Module: Osseo\, WI
DESCRIPTION:Register for this course
URL:https://www.calsprogram.org/event/trauma-module-osseo-wi-2/
LOCATION:MN
CATEGORIES:Trauma Module,Wisconsin
END:VEVENT
BEGIN:VEVENT
DTSTART;VALUE=DATE:20190410
DTEND;VALUE=DATE:20190412
DTSTAMP:20260421T131922
CREATED:20180816T190513Z
LAST-MODIFIED:20180816T190513Z
UID:919-1554854400-1555027199@www.calsprogram.org
SUMMARY:Provider Course: Ely\, MN
DESCRIPTION:This is course location is FULL – contact dana.bies@calsprogram.org to get on the Wait List.
URL:https://www.calsprogram.org/event/provider-course-ely-mn-2/
LOCATION:MN
CATEGORIES:Full,Minnesota,Provider Course
END:VEVENT
END:VCALENDAR