BEGIN:VCALENDAR
VERSION:2.0
PRODID:-//CALS Program | Emergency Medical Training for Rural Healthcare Teams - ECPv6.15.20//NONSGML v1.0//EN
CALSCALE:GREGORIAN
METHOD:PUBLISH
X-WR-CALNAME:CALS Program | Emergency Medical Training for Rural Healthcare Teams
X-ORIGINAL-URL:https://www.calsprogram.org
X-WR-CALDESC:Events for CALS Program | Emergency Medical Training for Rural Healthcare Teams
REFRESH-INTERVAL;VALUE=DURATION:PT1H
X-Robots-Tag:noindex
X-PUBLISHED-TTL:PT1H
BEGIN:VTIMEZONE
TZID:UTC
BEGIN:STANDARD
TZOFFSETFROM:+0000
TZOFFSETTO:+0000
TZNAME:UTC
DTSTART:20180101T000000
END:STANDARD
END:VTIMEZONE
BEGIN:VEVENT
DTSTART;VALUE=DATE:20190508
DTEND;VALUE=DATE:20190509
DTSTAMP:20260421T120740
CREATED:20180816T193732Z
LAST-MODIFIED:20180816T193732Z
UID:928-1557273600-1557359999@www.calsprogram.org
SUMMARY:Trauma Module: Alexandria\, MN
DESCRIPTION:This course location is FULL.  email dana.bies@calsprogram.org to be added to the Wait List.
URL:https://www.calsprogram.org/event/trauma-module-alexandria-mn/
LOCATION:MN
CATEGORIES:Full,Minnesota,Trauma Module
END:VEVENT
END:VCALENDAR