BEGIN:VCALENDAR
VERSION:2.0
PRODID:-//CALS Program | Emergency Medical Training for Rural Healthcare Teams - ECPv6.15.20//NONSGML v1.0//EN
CALSCALE:GREGORIAN
METHOD:PUBLISH
X-ORIGINAL-URL:https://www.calsprogram.org
X-WR-CALDESC:Events for CALS Program | Emergency Medical Training for Rural Healthcare Teams
REFRESH-INTERVAL;VALUE=DURATION:PT1H
X-Robots-Tag:noindex
X-PUBLISHED-TTL:PT1H
BEGIN:VTIMEZONE
TZID:UTC
BEGIN:STANDARD
TZOFFSETFROM:+0000
TZOFFSETTO:+0000
TZNAME:UTC
DTSTART:20180101T000000
END:STANDARD
END:VTIMEZONE
BEGIN:VEVENT
DTSTART;TZID=UTC:20190709T170000
DTEND;TZID=UTC:20190709T203000
DTSTAMP:20260421T110224
CREATED:20190204T231453Z
LAST-MODIFIED:20190204T231453Z
UID:3479-1562691600-1562704200@www.calsprogram.org
SUMMARY:Trauma Module:  Minneapolis\, MN  JULY 9\, 2019
DESCRIPTION:Register for Course.
URL:https://www.calsprogram.org/event/trauma-module-rosemount-mn-july-9-2019/
LOCATION:MN
CATEGORIES:Minnesota,Trauma Module
END:VEVENT
END:VCALENDAR