BEGIN:VCALENDAR
VERSION:2.0
PRODID:-//CALS Program | Emergency Medical Training for Rural Healthcare Teams - ECPv6.15.20//NONSGML v1.0//EN
CALSCALE:GREGORIAN
METHOD:PUBLISH
X-WR-CALNAME:CALS Program | Emergency Medical Training for Rural Healthcare Teams
X-ORIGINAL-URL:https://www.calsprogram.org
X-WR-CALDESC:Events for CALS Program | Emergency Medical Training for Rural Healthcare Teams
REFRESH-INTERVAL;VALUE=DURATION:PT1H
X-Robots-Tag:noindex
X-PUBLISHED-TTL:PT1H
BEGIN:VTIMEZONE
TZID:UTC
BEGIN:STANDARD
TZOFFSETFROM:+0000
TZOFFSETTO:+0000
TZNAME:UTC
DTSTART:20180101T000000
END:STANDARD
END:VTIMEZONE
BEGIN:VEVENT
DTSTART;TZID=UTC:20190731T170000
DTEND;TZID=UTC:20190731T203000
DTSTAMP:20260421T091632
CREATED:20190204T232446Z
LAST-MODIFIED:20190204T232446Z
UID:3491-1564592400-1564605000@www.calsprogram.org
SUMMARY:Trauma Module:  Windom\, MN  July 31\, 2019
DESCRIPTION:Register for Course.
URL:https://www.calsprogram.org/event/trauma-module-windom-mn-july-31-2019/
LOCATION:MN
CATEGORIES:Minnesota,Trauma Module
END:VEVENT
END:VCALENDAR