BEGIN:VCALENDAR
VERSION:2.0
PRODID:-//CALS Program | Emergency Medical Training for Rural Healthcare Teams - ECPv6.15.20//NONSGML v1.0//EN
CALSCALE:GREGORIAN
METHOD:PUBLISH
X-ORIGINAL-URL:https://www.calsprogram.org
X-WR-CALDESC:Events for CALS Program | Emergency Medical Training for Rural Healthcare Teams
REFRESH-INTERVAL;VALUE=DURATION:PT1H
X-Robots-Tag:noindex
X-PUBLISHED-TTL:PT1H
BEGIN:VTIMEZONE
TZID:UTC
BEGIN:STANDARD
TZOFFSETFROM:+0000
TZOFFSETTO:+0000
TZNAME:UTC
DTSTART:20180101T000000
END:STANDARD
END:VTIMEZONE
BEGIN:VEVENT
DTSTART;TZID=UTC:20190927T080000
DTEND;TZID=UTC:20190927T170000
DTSTAMP:20260421T121156
CREATED:20190204T232853Z
LAST-MODIFIED:20190204T232853Z
UID:3499-1569571200-1569603600@www.calsprogram.org
SUMMARY:5th CALS Conference on Rural Emergency Medicine -- St. Paul\, MN
DESCRIPTION:Registration CLOSED
URL:https://www.calsprogram.org/event/5th-cals-conference-on-rural-emergency-medicine-st-paul-mn/
LOCATION:MN
END:VEVENT
END:VCALENDAR