BEGIN:VCALENDAR
VERSION:2.0
PRODID:-//CALS Program | Emergency Medical Training for Rural Healthcare Teams - ECPv6.15.20//NONSGML v1.0//EN
CALSCALE:GREGORIAN
METHOD:PUBLISH
X-WR-CALNAME:CALS Program | Emergency Medical Training for Rural Healthcare Teams
X-ORIGINAL-URL:https://www.calsprogram.org
X-WR-CALDESC:Events for CALS Program | Emergency Medical Training for Rural Healthcare Teams
REFRESH-INTERVAL;VALUE=DURATION:PT1H
X-Robots-Tag:noindex
X-PUBLISHED-TTL:PT1H
BEGIN:VTIMEZONE
TZID:UTC
BEGIN:STANDARD
TZOFFSETFROM:+0000
TZOFFSETTO:+0000
TZNAME:UTC
DTSTART:20180101T000000
END:STANDARD
END:VTIMEZONE
BEGIN:VEVENT
DTSTART;TZID=UTC:20191023T070000
DTEND;TZID=UTC:20191024T170000
DTSTAMP:20260421T133112
CREATED:20190204T234005Z
LAST-MODIFIED:20190204T234005Z
UID:3519-1571814000-1571936400@www.calsprogram.org
SUMMARY:Provider Course:  Aitkin\, MN  October 23-24\, 2019
DESCRIPTION:Register for Course.
URL:https://www.calsprogram.org/event/provider-course-aitkin-mn-october-23-24-2019/
LOCATION:MN
CATEGORIES:Minnesota,Provider Course
END:VEVENT
END:VCALENDAR