BEGIN:VCALENDAR
VERSION:2.0
PRODID:-//CALS Program | Emergency Medical Training for Rural Healthcare Teams - ECPv6.15.20//NONSGML v1.0//EN
CALSCALE:GREGORIAN
METHOD:PUBLISH
X-WR-CALNAME:CALS Program | Emergency Medical Training for Rural Healthcare Teams
X-ORIGINAL-URL:https://www.calsprogram.org
X-WR-CALDESC:Events for CALS Program | Emergency Medical Training for Rural Healthcare Teams
REFRESH-INTERVAL;VALUE=DURATION:PT1H
X-Robots-Tag:noindex
X-PUBLISHED-TTL:PT1H
BEGIN:VTIMEZONE
TZID:UTC
BEGIN:STANDARD
TZOFFSETFROM:+0000
TZOFFSETTO:+0000
TZNAME:UTC
DTSTART:20190101T000000
END:STANDARD
END:VTIMEZONE
BEGIN:VEVENT
DTSTART;TZID=UTC:20200203T170000
DTEND;TZID=UTC:20200203T203000
DTSTAMP:20260421T205635
CREATED:20190715T221538Z
LAST-MODIFIED:20190715T221538Z
UID:3795-1580749200-1580761800@www.calsprogram.org
SUMMARY:Trauma Module: Crosby\, MN FEB 3\, 2020
DESCRIPTION:Register for course.
URL:https://www.calsprogram.org/event/trauma-module-crosby-mn-jan-22-2020/
LOCATION:MN
CATEGORIES:Minnesota,Trauma Module
END:VEVENT
END:VCALENDAR