BEGIN:VCALENDAR
VERSION:2.0
PRODID:-//CALS Program | Emergency Medical Training for Rural Healthcare Teams - ECPv6.15.20//NONSGML v1.0//EN
CALSCALE:GREGORIAN
METHOD:PUBLISH
X-WR-CALNAME:CALS Program | Emergency Medical Training for Rural Healthcare Teams
X-ORIGINAL-URL:https://www.calsprogram.org
X-WR-CALDESC:Events for CALS Program | Emergency Medical Training for Rural Healthcare Teams
REFRESH-INTERVAL;VALUE=DURATION:PT1H
X-Robots-Tag:noindex
X-PUBLISHED-TTL:PT1H
BEGIN:VTIMEZONE
TZID:UTC
BEGIN:STANDARD
TZOFFSETFROM:+0000
TZOFFSETTO:+0000
TZNAME:UTC
DTSTART:20190101T000000
END:STANDARD
END:VTIMEZONE
BEGIN:VEVENT
DTSTART;TZID=UTC:20200319T070000
DTEND;TZID=UTC:20200320T170000
DTSTAMP:20260421T235254
CREATED:20191002T191459Z
LAST-MODIFIED:20191002T191459Z
UID:3990-1584601200-1584723600@www.calsprogram.org
SUMMARY:2-day Provider Course: Eau Claire\, WI MAR 19-20 2020 CANCELLED
DESCRIPTION:Register for this course
URL:https://www.calsprogram.org/event/2-day-provider-course-osseo-wi/
LOCATION:MN
CATEGORIES:Provider Course,Wisconsin
END:VEVENT
END:VCALENDAR