BEGIN:VCALENDAR
VERSION:2.0
PRODID:-//CALS Program | Emergency Medical Training for Rural Healthcare Teams - ECPv6.15.20//NONSGML v1.0//EN
CALSCALE:GREGORIAN
METHOD:PUBLISH
X-ORIGINAL-URL:https://www.calsprogram.org
X-WR-CALDESC:Events for CALS Program | Emergency Medical Training for Rural Healthcare Teams
REFRESH-INTERVAL;VALUE=DURATION:PT1H
X-Robots-Tag:noindex
X-PUBLISHED-TTL:PT1H
BEGIN:VTIMEZONE
TZID:UTC
BEGIN:STANDARD
TZOFFSETFROM:+0000
TZOFFSETTO:+0000
TZNAME:UTC
DTSTART:20190101T000000
END:STANDARD
END:VTIMEZONE
BEGIN:VEVENT
DTSTART;TZID=UTC:20200402T070000
DTEND;TZID=UTC:20200403T170000
DTSTAMP:20260421T222756
CREATED:20191024T195821Z
LAST-MODIFIED:20191024T195821Z
UID:4028-1585810800-1585933200@www.calsprogram.org
SUMMARY:2-Day Provider Course: CANCELLED -- Plymouth\, MN  APR 2-3 2020
DESCRIPTION:Register for this course
URL:https://www.calsprogram.org/event/2-day-provider-course-plymouth-mn-apr-2-3-2020/
LOCATION:MN
CATEGORIES:Minnesota,Provider Course
END:VEVENT
END:VCALENDAR