BEGIN:VCALENDAR
VERSION:2.0
PRODID:-//CALS Program | Emergency Medical Training for Rural Healthcare Teams - ECPv6.15.20//NONSGML v1.0//EN
CALSCALE:GREGORIAN
METHOD:PUBLISH
X-WR-CALNAME:CALS Program | Emergency Medical Training for Rural Healthcare Teams
X-ORIGINAL-URL:https://www.calsprogram.org
X-WR-CALDESC:Events for CALS Program | Emergency Medical Training for Rural Healthcare Teams
REFRESH-INTERVAL;VALUE=DURATION:PT1H
X-Robots-Tag:noindex
X-PUBLISHED-TTL:PT1H
BEGIN:VTIMEZONE
TZID:UTC
BEGIN:STANDARD
TZOFFSETFROM:+0000
TZOFFSETTO:+0000
TZNAME:UTC
DTSTART:20190101T000000
END:STANDARD
END:VTIMEZONE
BEGIN:VEVENT
DTSTART;TZID=UTC:20200422T160000
DTEND;TZID=UTC:20200422T200000
DTSTAMP:20260421T221812
CREATED:20200204T185548Z
LAST-MODIFIED:20200204T185548Z
UID:4151-1587571200-1587585600@www.calsprogram.org
SUMMARY:Trauma Module: Plains\, MT APR 22 2020 CANCELLED
DESCRIPTION:Register for this course
URL:https://www.calsprogram.org/event/trauma-module-plains-mt-apr-22-2020/
LOCATION:MN
CATEGORIES:Montana,Trauma Module
END:VEVENT
END:VCALENDAR