BEGIN:VCALENDAR
VERSION:2.0
PRODID:-//CALS Program | Emergency Medical Training for Rural Healthcare Teams - ECPv6.15.20//NONSGML v1.0//EN
CALSCALE:GREGORIAN
METHOD:PUBLISH
X-ORIGINAL-URL:https://www.calsprogram.org
X-WR-CALDESC:Events for CALS Program | Emergency Medical Training for Rural Healthcare Teams
REFRESH-INTERVAL;VALUE=DURATION:PT1H
X-Robots-Tag:noindex
X-PUBLISHED-TTL:PT1H
BEGIN:VTIMEZONE
TZID:UTC
BEGIN:STANDARD
TZOFFSETFROM:+0000
TZOFFSETTO:+0000
TZNAME:UTC
DTSTART:20190101T000000
END:STANDARD
END:VTIMEZONE
BEGIN:VEVENT
DTSTART;TZID=UTC:20200623T070000
DTEND;TZID=UTC:20200624T170000
DTSTAMP:20260422T071520
CREATED:20191107T221111Z
LAST-MODIFIED:20191107T221111Z
UID:4046-1592895600-1593018000@www.calsprogram.org
SUMMARY:2-day Provider Course: Plymouth\, MN JUN 23-24 2020 (RN/EMT-P only)
DESCRIPTION:Register for this course
URL:https://www.calsprogram.org/event/2-day-provider-course-dawson-mn-jun-23-24-2020/
LOCATION:MN
CATEGORIES:Minnesota,Provider Course
END:VEVENT
END:VCALENDAR