BEGIN:VCALENDAR
VERSION:2.0
PRODID:-//CALS Program | Emergency Medical Training for Rural Healthcare Teams - ECPv6.15.20//NONSGML v1.0//EN
CALSCALE:GREGORIAN
METHOD:PUBLISH
X-ORIGINAL-URL:https://www.calsprogram.org
X-WR-CALDESC:Events for CALS Program | Emergency Medical Training for Rural Healthcare Teams
REFRESH-INTERVAL;VALUE=DURATION:PT1H
X-Robots-Tag:noindex
X-PUBLISHED-TTL:PT1H
BEGIN:VTIMEZONE
TZID:UTC
BEGIN:STANDARD
TZOFFSETFROM:+0000
TZOFFSETTO:+0000
TZNAME:UTC
DTSTART:20190101T000000
END:STANDARD
END:VTIMEZONE
BEGIN:VEVENT
DTSTART;TZID=UTC:20200721T170000
DTEND;TZID=UTC:20200721T203000
DTSTAMP:20260422T113503
CREATED:20180816T193737Z
LAST-MODIFIED:20180816T193737Z
UID:940-1595350800-1595363400@www.calsprogram.org
SUMMARY:Trauma Module: Moose Lake\, MN JUL 21 2020 RESCHEDULED FROM Jun 1 2020
DESCRIPTION:Register for this Course.
URL:https://www.calsprogram.org/event/trauma-module-moose-lake-mn-2/
LOCATION:MN
CATEGORIES:Minnesota,Trauma Module
END:VEVENT
END:VCALENDAR