BEGIN:VCALENDAR
VERSION:2.0
PRODID:-//CALS Program | Emergency Medical Training for Rural Healthcare Teams - ECPv6.15.20//NONSGML v1.0//EN
CALSCALE:GREGORIAN
METHOD:PUBLISH
X-ORIGINAL-URL:https://www.calsprogram.org
X-WR-CALDESC:Events for CALS Program | Emergency Medical Training for Rural Healthcare Teams
REFRESH-INTERVAL;VALUE=DURATION:PT1H
X-Robots-Tag:noindex
X-PUBLISHED-TTL:PT1H
BEGIN:VTIMEZONE
TZID:UTC
BEGIN:STANDARD
TZOFFSETFROM:+0000
TZOFFSETTO:+0000
TZNAME:UTC
DTSTART:20190101T000000
END:STANDARD
END:VTIMEZONE
BEGIN:VEVENT
DTSTART;TZID=UTC:20200910T070000
DTEND;TZID=UTC:20200911T170000
DTSTAMP:20260422T190746
CREATED:20200702T193631Z
LAST-MODIFIED:20200702T193631Z
UID:4314-1599721200-1599843600@www.calsprogram.org
SUMMARY:Provider Course: Plymouth\, MN SEPT 10-11 2020
DESCRIPTION:Register for this course.
URL:https://www.calsprogram.org/event/provider-course-plymouth-mn-sept-10-11-2020/
LOCATION:MN
CATEGORIES:Minnesota,Provider Course
END:VEVENT
END:VCALENDAR