BEGIN:VCALENDAR
VERSION:2.0
PRODID:-//CALS Program | Emergency Medical Training for Rural Healthcare Teams - ECPv6.15.20//NONSGML v1.0//EN
CALSCALE:GREGORIAN
METHOD:PUBLISH
X-WR-CALNAME:CALS Program | Emergency Medical Training for Rural Healthcare Teams
X-ORIGINAL-URL:https://www.calsprogram.org
X-WR-CALDESC:Events for CALS Program | Emergency Medical Training for Rural Healthcare Teams
REFRESH-INTERVAL;VALUE=DURATION:PT1H
X-Robots-Tag:noindex
X-PUBLISHED-TTL:PT1H
BEGIN:VTIMEZONE
TZID:UTC
BEGIN:STANDARD
TZOFFSETFROM:+0000
TZOFFSETTO:+0000
TZNAME:UTC
DTSTART:20190101T000000
END:STANDARD
END:VTIMEZONE
BEGIN:VEVENT
DTSTART;TZID=UTC:20201103T070000
DTEND;TZID=UTC:20201104T170000
DTSTAMP:20260425T125202
CREATED:20191212T232039Z
LAST-MODIFIED:20191212T232039Z
UID:4104-1604386800-1604509200@www.calsprogram.org
SUMMARY:2-day Provider Course: Alexandria\, MN NOV 3-4 2020 Rescheduled from MAY 5-6 2020
DESCRIPTION:Register for this course
URL:https://www.calsprogram.org/event/2-day-provider-course-alexandria-mn/
LOCATION:MN
CATEGORIES:Minnesota,Provider Course
END:VEVENT
END:VCALENDAR