BEGIN:VCALENDAR
VERSION:2.0
PRODID:-//CALS Program | Emergency Medical Training for Rural Healthcare Teams - ECPv6.15.20//NONSGML v1.0//EN
CALSCALE:GREGORIAN
METHOD:PUBLISH
X-ORIGINAL-URL:https://www.calsprogram.org
X-WR-CALDESC:Events for CALS Program | Emergency Medical Training for Rural Healthcare Teams
REFRESH-INTERVAL;VALUE=DURATION:PT1H
X-Robots-Tag:noindex
X-PUBLISHED-TTL:PT1H
BEGIN:VTIMEZONE
TZID:UTC
BEGIN:STANDARD
TZOFFSETFROM:+0000
TZOFFSETTO:+0000
TZNAME:UTC
DTSTART:20190101T000000
END:STANDARD
END:VTIMEZONE
BEGIN:VEVENT
DTSTART;TZID=UTC:20201119T070000
DTEND;TZID=UTC:20201120T170000
DTSTAMP:20260425T214103
CREATED:20200304T212807Z
LAST-MODIFIED:20200304T212807Z
UID:4204-1605769200-1605891600@www.calsprogram.org
SUMMARY:Provider Course (Session #2): Marshall\, MN NOV 19-20\, 2020
DESCRIPTION:Register for this course
URL:https://www.calsprogram.org/event/provider-course-session-2-marshall-mn-nov-19-20-2020/
LOCATION:MN
CATEGORIES:Minnesota,Provider Course
END:VEVENT
END:VCALENDAR