BEGIN:VCALENDAR
VERSION:2.0
PRODID:-//CALS Program | Emergency Medical Training for Rural Healthcare Teams - ECPv6.15.20//NONSGML v1.0//EN
CALSCALE:GREGORIAN
METHOD:PUBLISH
X-WR-CALNAME:CALS Program | Emergency Medical Training for Rural Healthcare Teams
X-ORIGINAL-URL:https://www.calsprogram.org
X-WR-CALDESC:Events for CALS Program | Emergency Medical Training for Rural Healthcare Teams
REFRESH-INTERVAL;VALUE=DURATION:PT1H
X-Robots-Tag:noindex
X-PUBLISHED-TTL:PT1H
BEGIN:VTIMEZONE
TZID:UTC
BEGIN:STANDARD
TZOFFSETFROM:+0000
TZOFFSETTO:+0000
TZNAME:UTC
DTSTART:20200101T000000
END:STANDARD
END:VTIMEZONE
BEGIN:VEVENT
DTSTART;TZID=UTC:20210128T070000
DTEND;TZID=UTC:20210129T170000
DTSTAMP:20260423T101854
CREATED:20210114T000018Z
LAST-MODIFIED:20210114T000018Z
UID:4518-1611817200-1611939600@www.calsprogram.org
SUMMARY:RN ONLY Provider Course: JAN 28-29 2021 -- Plymouth\, MN
DESCRIPTION:Register for this course
URL:https://www.calsprogram.org/event/rn-only-provider-course-jan-28-29-2021-plymouth-mn/
LOCATION:MN
CATEGORIES:Minnesota,Provider Course
END:VEVENT
END:VCALENDAR