BEGIN:VCALENDAR
VERSION:2.0
PRODID:-//CALS Program | Emergency Medical Training for Rural Healthcare Teams - ECPv6.15.20//NONSGML v1.0//EN
CALSCALE:GREGORIAN
METHOD:PUBLISH
X-ORIGINAL-URL:https://www.calsprogram.org
X-WR-CALDESC:Events for CALS Program | Emergency Medical Training for Rural Healthcare Teams
REFRESH-INTERVAL;VALUE=DURATION:PT1H
X-Robots-Tag:noindex
X-PUBLISHED-TTL:PT1H
BEGIN:VTIMEZONE
TZID:UTC
BEGIN:STANDARD
TZOFFSETFROM:+0000
TZOFFSETTO:+0000
TZNAME:UTC
DTSTART:20200101T000000
END:STANDARD
END:VTIMEZONE
BEGIN:VEVENT
DTSTART;TZID=UTC:20210309T070000
DTEND;TZID=UTC:20210310T170000
DTSTAMP:20260423T065951
CREATED:20200702T223850Z
LAST-MODIFIED:20200702T223850Z
UID:4318-1615273200-1615395600@www.calsprogram.org
SUMMARY:Provider Course:  Alexandria\, MN SESSION #1 MARCH 9-10 2021
DESCRIPTION:Register for this course.
URL:https://www.calsprogram.org/event/provider-course-alexandria-mn-session-1-march-8-9-2021/
LOCATION:MN
CATEGORIES:Minnesota,Provider Course
END:VEVENT
BEGIN:VEVENT
DTSTART;TZID=UTC:20210310T170000
DTEND;TZID=UTC:20210310T203000
DTSTAMP:20260423T065951
CREATED:20200702T224332Z
LAST-MODIFIED:20200702T224332Z
UID:4324-1615395600-1615408200@www.calsprogram.org
SUMMARY:Trauma Module: Alexandria\, MN SESSION #2 MARCH 10 2021 (5-8:45pm)
DESCRIPTION:Register for this course
URL:https://www.calsprogram.org/event/trauma-module-alexandria-mn-session-2-march-10-2021-2-545pm/
LOCATION:MN
CATEGORIES:Minnesota,Trauma Module
END:VEVENT
END:VCALENDAR