BEGIN:VCALENDAR
VERSION:2.0
PRODID:-//CALS Program | Emergency Medical Training for Rural Healthcare Teams - ECPv6.15.20//NONSGML v1.0//EN
CALSCALE:GREGORIAN
METHOD:PUBLISH
X-ORIGINAL-URL:https://www.calsprogram.org
X-WR-CALDESC:Events for CALS Program | Emergency Medical Training for Rural Healthcare Teams
REFRESH-INTERVAL;VALUE=DURATION:PT1H
X-Robots-Tag:noindex
X-PUBLISHED-TTL:PT1H
BEGIN:VTIMEZONE
TZID:UTC
BEGIN:STANDARD
TZOFFSETFROM:+0000
TZOFFSETTO:+0000
TZNAME:UTC
DTSTART:20200101T000000
END:STANDARD
END:VTIMEZONE
BEGIN:VEVENT
DTSTART;TZID=UTC:20210311T070000
DTEND;TZID=UTC:20210312T170000
DTSTAMP:20260422T183318
CREATED:20200702T224019Z
LAST-MODIFIED:20200702T224019Z
UID:4320-1615446000-1615568400@www.calsprogram.org
SUMMARY:Provider Course: Alexandria\, MN SESSION #2 MARCH 11-12\, 2021
DESCRIPTION:Register for this course
URL:https://www.calsprogram.org/event/provider-course-alexandria-mn-session-2-march-11-12-2021/
LOCATION:MN
CATEGORIES:Minnesota,Provider Course
END:VEVENT
END:VCALENDAR