BEGIN:VCALENDAR
VERSION:2.0
PRODID:-//CALS Program | Emergency Medical Training for Rural Healthcare Teams - ECPv6.15.20//NONSGML v1.0//EN
CALSCALE:GREGORIAN
METHOD:PUBLISH
X-WR-CALNAME:CALS Program | Emergency Medical Training for Rural Healthcare Teams
X-ORIGINAL-URL:https://www.calsprogram.org
X-WR-CALDESC:Events for CALS Program | Emergency Medical Training for Rural Healthcare Teams
REFRESH-INTERVAL;VALUE=DURATION:PT1H
X-Robots-Tag:noindex
X-PUBLISHED-TTL:PT1H
BEGIN:VTIMEZONE
TZID:UTC
BEGIN:STANDARD
TZOFFSETFROM:+0000
TZOFFSETTO:+0000
TZNAME:UTC
DTSTART:20200101T000000
END:STANDARD
END:VTIMEZONE
BEGIN:VEVENT
DTSTART;TZID=UTC:20210509T170000
DTEND;TZID=UTC:20210509T203000
DTSTAMP:20260422T161018
CREATED:20210212T203929Z
LAST-MODIFIED:20210212T203929Z
UID:4542-1620579600-1620592200@www.calsprogram.org
SUMMARY:AK Trauma Module: Anchorage\, AK  MAY 9 2021 REGISTRATION OPENS 02/24/21
DESCRIPTION:Register for this course
URL:https://www.calsprogram.org/event/ak-only-trauma-module-may-9-2021-anchorage-ak/
LOCATION:MN
CATEGORIES:Alaska,Trauma Module
END:VEVENT
END:VCALENDAR