BEGIN:VCALENDAR
VERSION:2.0
PRODID:-//CALS Program | Emergency Medical Training for Rural Healthcare Teams - ECPv6.15.20//NONSGML v1.0//EN
CALSCALE:GREGORIAN
METHOD:PUBLISH
X-ORIGINAL-URL:https://www.calsprogram.org
X-WR-CALDESC:Events for CALS Program | Emergency Medical Training for Rural Healthcare Teams
REFRESH-INTERVAL;VALUE=DURATION:PT1H
X-Robots-Tag:noindex
X-PUBLISHED-TTL:PT1H
BEGIN:VTIMEZONE
TZID:UTC
BEGIN:STANDARD
TZOFFSETFROM:+0000
TZOFFSETTO:+0000
TZNAME:UTC
DTSTART:20200101T000000
END:STANDARD
END:VTIMEZONE
BEGIN:VEVENT
DTSTART;VALUE=DATE:20210512
DTEND;VALUE=DATE:20210513
DTSTAMP:20260422T172726
CREATED:20210212T204334Z
LAST-MODIFIED:20210212T204334Z
UID:4547-1620777600-1620863999@www.calsprogram.org
SUMMARY:AK INSTRUCTOR Course: Anchorage\, AK  May 12 2021 REGISTRATION OPENS 02/24/21
DESCRIPTION:Register for this course.
URL:https://www.calsprogram.org/event/ak-only-instructor-course-anchorage-ak-may-12-2021/
LOCATION:MN
CATEGORIES:Alaska,Instructor
END:VEVENT
BEGIN:VEVENT
DTSTART;TZID=UTC:20210512T170000
DTEND;TZID=UTC:20210512T203000
DTSTAMP:20260422T172726
CREATED:20210212T204450Z
LAST-MODIFIED:20210212T204450Z
UID:4549-1620838800-1620851400@www.calsprogram.org
SUMMARY:AK Trauma Module: Anchorage\, AK  May 12 2021 REGISTRATION OPENS 02/24/21
DESCRIPTION:Register for this course.
URL:https://www.calsprogram.org/event/ak-only-trauma-module-anchorage-ak-may-12-2021/
LOCATION:MN
CATEGORIES:Alaska,Trauma Module
END:VEVENT
END:VCALENDAR