BEGIN:VCALENDAR
VERSION:2.0
PRODID:-//CALS Program | Emergency Medical Training for Rural Healthcare Teams - ECPv6.15.20//NONSGML v1.0//EN
CALSCALE:GREGORIAN
METHOD:PUBLISH
X-ORIGINAL-URL:https://www.calsprogram.org
X-WR-CALDESC:Events for CALS Program | Emergency Medical Training for Rural Healthcare Teams
REFRESH-INTERVAL;VALUE=DURATION:PT1H
X-Robots-Tag:noindex
X-PUBLISHED-TTL:PT1H
BEGIN:VTIMEZONE
TZID:UTC
BEGIN:STANDARD
TZOFFSETFROM:+0000
TZOFFSETTO:+0000
TZNAME:UTC
DTSTART:20200101T000000
END:STANDARD
END:VTIMEZONE
BEGIN:VEVENT
DTSTART;TZID=UTC:20210608T070000
DTEND;TZID=UTC:20210609T170000
DTSTAMP:20260422T100209
CREATED:20210203T010243Z
LAST-MODIFIED:20210203T010243Z
UID:4533-1623135600-1623258000@www.calsprogram.org
SUMMARY:Provider Course: Duluth\, MN JUN 8-9 2021
DESCRIPTION:Register for this course
URL:https://www.calsprogram.org/event/provider-course-duluth-mn-jun-8-9-2021/
LOCATION:MN
CATEGORIES:Minnesota,Provider Course
END:VEVENT
END:VCALENDAR