BEGIN:VCALENDAR
VERSION:2.0
PRODID:-//CALS Program | Emergency Medical Training for Rural Healthcare Teams - ECPv6.15.20//NONSGML v1.0//EN
CALSCALE:GREGORIAN
METHOD:PUBLISH
X-ORIGINAL-URL:https://www.calsprogram.org
X-WR-CALDESC:Events for CALS Program | Emergency Medical Training for Rural Healthcare Teams
REFRESH-INTERVAL;VALUE=DURATION:PT1H
X-Robots-Tag:noindex
X-PUBLISHED-TTL:PT1H
BEGIN:VTIMEZONE
TZID:UTC
BEGIN:STANDARD
TZOFFSETFROM:+0000
TZOFFSETTO:+0000
TZNAME:UTC
DTSTART:20200101T000000
END:STANDARD
END:VTIMEZONE
BEGIN:VEVENT
DTSTART;TZID=UTC:20210615T170000
DTEND;TZID=UTC:20210615T203000
DTSTAMP:20260422T071520
CREATED:20200729T185421Z
LAST-MODIFIED:20200729T185421Z
UID:4353-1623776400-1623789000@www.calsprogram.org
SUMMARY:Trauma Module:  Warren\, MN  JUN 15\, 2021
DESCRIPTION:Register for this course.
URL:https://www.calsprogram.org/event/trauma-module-warren-mn-jun-15-2021/
LOCATION:MN
CATEGORIES:Minnesota,Trauma Module
END:VEVENT
END:VCALENDAR