BEGIN:VCALENDAR
VERSION:2.0
PRODID:-//CALS Program | Emergency Medical Training for Rural Healthcare Teams - ECPv6.15.20//NONSGML v1.0//EN
CALSCALE:GREGORIAN
METHOD:PUBLISH
X-ORIGINAL-URL:https://www.calsprogram.org
X-WR-CALDESC:Events for CALS Program | Emergency Medical Training for Rural Healthcare Teams
REFRESH-INTERVAL;VALUE=DURATION:PT1H
X-Robots-Tag:noindex
X-PUBLISHED-TTL:PT1H
BEGIN:VTIMEZONE
TZID:UTC
BEGIN:STANDARD
TZOFFSETFROM:+0000
TZOFFSETTO:+0000
TZNAME:UTC
DTSTART:20200101T000000
END:STANDARD
END:VTIMEZONE
BEGIN:VEVENT
DTSTART;TZID=UTC:20210901T070000
DTEND;TZID=UTC:20210902T170000
DTSTAMP:20260421T210430
CREATED:20210323T161056Z
LAST-MODIFIED:20210323T161056Z
UID:4584-1630479600-1630602000@www.calsprogram.org
SUMMARY:Provider Course:  Alexandria\, MN  SEPT 1-2 2021
DESCRIPTION:Register for this course
URL:https://www.calsprogram.org/event/provider-course-alexandria-mn-aug-31-sept-1-2021/
LOCATION:MN
CATEGORIES:Minnesota,Provider Course
END:VEVENT
BEGIN:VEVENT
DTSTART;TZID=UTC:20210901T170000
DTEND;TZID=UTC:20210901T203000
DTSTAMP:20260421T210430
CREATED:20210323T161215Z
LAST-MODIFIED:20210323T161215Z
UID:4586-1630515600-1630528200@www.calsprogram.org
SUMMARY:CANCELLED: Trauma Module: Alexandria\, MN  SEPT 1\, 2021
DESCRIPTION:Register for this course
URL:https://www.calsprogram.org/event/trauma-module-alexandria-mn-sept-1-2021/
LOCATION:MN
CATEGORIES:Minnesota,Trauma Module
END:VEVENT
END:VCALENDAR