BEGIN:VCALENDAR
VERSION:2.0
PRODID:-//CALS Program | Emergency Medical Training for Rural Healthcare Teams - ECPv6.15.20//NONSGML v1.0//EN
CALSCALE:GREGORIAN
METHOD:PUBLISH
X-ORIGINAL-URL:https://www.calsprogram.org
X-WR-CALDESC:Events for CALS Program | Emergency Medical Training for Rural Healthcare Teams
REFRESH-INTERVAL;VALUE=DURATION:PT1H
X-Robots-Tag:noindex
X-PUBLISHED-TTL:PT1H
BEGIN:VTIMEZONE
TZID:UTC
BEGIN:STANDARD
TZOFFSETFROM:+0000
TZOFFSETTO:+0000
TZNAME:UTC
DTSTART:20200101T000000
END:STANDARD
END:VTIMEZONE
BEGIN:VEVENT
DTSTART;TZID=UTC:20210929T080000
DTEND;TZID=UTC:20210929T120000
DTSTAMP:20260422T052629
CREATED:20210831T174526Z
LAST-MODIFIED:20210831T174526Z
UID:4728-1632902400-1632916800@www.calsprogram.org
SUMMARY:ME/MT Instructor Update:  LIVE-in person w/ Zoom
DESCRIPTION:Register for course.
URL:https://www.calsprogram.org/event/me-mt-instructor-update-live-in-person-w-zoom/
LOCATION:MN
CATEGORIES:Instructor,Maine,Montana
END:VEVENT
END:VCALENDAR