BEGIN:VCALENDAR
VERSION:2.0
PRODID:-//CALS Program | Emergency Medical Training for Rural Healthcare Teams - ECPv6.15.20//NONSGML v1.0//EN
CALSCALE:GREGORIAN
METHOD:PUBLISH
X-ORIGINAL-URL:https://www.calsprogram.org
X-WR-CALDESC:Events for CALS Program | Emergency Medical Training for Rural Healthcare Teams
REFRESH-INTERVAL;VALUE=DURATION:PT1H
X-Robots-Tag:noindex
X-PUBLISHED-TTL:PT1H
BEGIN:VTIMEZONE
TZID:UTC
BEGIN:STANDARD
TZOFFSETFROM:+0000
TZOFFSETTO:+0000
TZNAME:UTC
DTSTART:20200101T000000
END:STANDARD
END:VTIMEZONE
BEGIN:VEVENT
DTSTART;TZID=UTC:20210930T170000
DTEND;TZID=UTC:20210930T230000
DTSTAMP:20260422T052712
CREATED:20210728T180103Z
LAST-MODIFIED:20210728T180103Z
UID:4671-1633021200-1633042800@www.calsprogram.org
SUMMARY:CX: Celebrate 25 Years of CALS:  Thursday\, September 30\, 2021 -- Medina\, MN
DESCRIPTION:Register for this event
URL:https://www.calsprogram.org/event/celebrate-25-years-of-cals-thursday-september-30-2021-medina-mn/
LOCATION:MN
CATEGORIES:Alaska,Instructor,Maine,Minnesota,Montana,Wisconsin
END:VEVENT
END:VCALENDAR