BEGIN:VCALENDAR
VERSION:2.0
PRODID:-//CALS Program | Emergency Medical Training for Rural Healthcare Teams - ECPv6.15.20//NONSGML v1.0//EN
CALSCALE:GREGORIAN
METHOD:PUBLISH
X-ORIGINAL-URL:https://www.calsprogram.org
X-WR-CALDESC:Events for CALS Program | Emergency Medical Training for Rural Healthcare Teams
REFRESH-INTERVAL;VALUE=DURATION:PT1H
X-Robots-Tag:noindex
X-PUBLISHED-TTL:PT1H
BEGIN:VTIMEZONE
TZID:UTC
BEGIN:STANDARD
TZOFFSETFROM:+0000
TZOFFSETTO:+0000
TZNAME:UTC
DTSTART:20210101T000000
END:STANDARD
END:VTIMEZONE
BEGIN:VEVENT
DTSTART;TZID=UTC:20220106T070000
DTEND;TZID=UTC:20220107T170000
DTSTAMP:20260421T115718
CREATED:20210924T225250Z
LAST-MODIFIED:20210924T225250Z
UID:4758-1641452400-1641574800@www.calsprogram.org
SUMMARY:Provider Course: Maple Grove\, MN  JAN 6-7\, 2022
DESCRIPTION:Register for this course.
URL:https://www.calsprogram.org/event/provider-course-maple-grove-mn-jan-6-7-2022/
LOCATION:MN
CATEGORIES:Minnesota,Provider Course
END:VEVENT
END:VCALENDAR