BEGIN:VCALENDAR
VERSION:2.0
PRODID:-//CALS Program | Emergency Medical Training for Rural Healthcare Teams - ECPv6.15.20//NONSGML v1.0//EN
CALSCALE:GREGORIAN
METHOD:PUBLISH
X-WR-CALNAME:CALS Program | Emergency Medical Training for Rural Healthcare Teams
X-ORIGINAL-URL:https://www.calsprogram.org
X-WR-CALDESC:Events for CALS Program | Emergency Medical Training for Rural Healthcare Teams
REFRESH-INTERVAL;VALUE=DURATION:PT1H
X-Robots-Tag:noindex
X-PUBLISHED-TTL:PT1H
BEGIN:VTIMEZONE
TZID:UTC
BEGIN:STANDARD
TZOFFSETFROM:+0000
TZOFFSETTO:+0000
TZNAME:UTC
DTSTART:20210101T000000
END:STANDARD
END:VTIMEZONE
BEGIN:VEVENT
DTSTART;TZID=UTC:20220215T160000
DTEND;TZID=UTC:20220215T193000
DTSTAMP:20260421T103024
CREATED:20211122T193049Z
LAST-MODIFIED:20211122T193049Z
UID:4802-1644940800-1644953400@www.calsprogram.org
SUMMARY:Trauma Module:  Aurora\, MN  FEB 15 2022
DESCRIPTION:Register for this course
URL:https://www.calsprogram.org/event/trauma-module-aurora-mn-feb-15-2022/
LOCATION:MN
CATEGORIES:Minnesota,Trauma Module
END:VEVENT
END:VCALENDAR