BEGIN:VCALENDAR
VERSION:2.0
PRODID:-//CALS Program | Emergency Medical Training for Rural Healthcare Teams - ECPv6.15.20//NONSGML v1.0//EN
CALSCALE:GREGORIAN
METHOD:PUBLISH
X-ORIGINAL-URL:https://www.calsprogram.org
X-WR-CALDESC:Events for CALS Program | Emergency Medical Training for Rural Healthcare Teams
REFRESH-INTERVAL;VALUE=DURATION:PT1H
X-Robots-Tag:noindex
X-PUBLISHED-TTL:PT1H
BEGIN:VTIMEZONE
TZID:UTC
BEGIN:STANDARD
TZOFFSETFROM:+0000
TZOFFSETTO:+0000
TZNAME:UTC
DTSTART:20210101T000000
END:STANDARD
END:VTIMEZONE
BEGIN:VEVENT
DTSTART;TZID=UTC:20220628T160000
DTEND;TZID=UTC:20220628T193000
DTSTAMP:20260421T103330
CREATED:20211006T234616Z
LAST-MODIFIED:20211006T234616Z
UID:4774-1656432000-1656444600@www.calsprogram.org
SUMMARY:Trauma Module:  JUN 28\, 2022 -- Fosston\, MN
DESCRIPTION:Register for this course.
URL:https://www.calsprogram.org/event/trauma-module-jun-14-2022-fosston-mn/
LOCATION:MN
CATEGORIES:Minnesota,Trauma Module
END:VEVENT
END:VCALENDAR