BEGIN:VCALENDAR
VERSION:2.0
PRODID:-//CALS Program | Emergency Medical Training for Rural Healthcare Teams - ECPv6.15.20//NONSGML v1.0//EN
CALSCALE:GREGORIAN
METHOD:PUBLISH
X-ORIGINAL-URL:https://www.calsprogram.org
X-WR-CALDESC:Events for CALS Program | Emergency Medical Training for Rural Healthcare Teams
REFRESH-INTERVAL;VALUE=DURATION:PT1H
X-Robots-Tag:noindex
X-PUBLISHED-TTL:PT1H
BEGIN:VTIMEZONE
TZID:UTC
BEGIN:STANDARD
TZOFFSETFROM:+0000
TZOFFSETTO:+0000
TZNAME:UTC
DTSTART:20210101T000000
END:STANDARD
END:VTIMEZONE
BEGIN:VEVENT
DTSTART;TZID=UTC:20220712T070000
DTEND;TZID=UTC:20220713T170000
DTSTAMP:20260421T132209
CREATED:20220121T220045Z
LAST-MODIFIED:20220121T220045Z
UID:4859-1657609200-1657731600@www.calsprogram.org
SUMMARY:Provider Course:  JUL 12-13\, 2022 -- MAPLE GROVE\, MN
DESCRIPTION:Register for this course
URL:https://www.calsprogram.org/event/provider-course-jul-12-13-2022-plymouth-mn/
LOCATION:MN
CATEGORIES:Minnesota,Provider Course
END:VEVENT
END:VCALENDAR