BEGIN:VCALENDAR
VERSION:2.0
PRODID:-//CALS Program | Emergency Medical Training for Rural Healthcare Teams - ECPv6.15.20//NONSGML v1.0//EN
CALSCALE:GREGORIAN
METHOD:PUBLISH
X-ORIGINAL-URL:https://www.calsprogram.org
X-WR-CALDESC:Events for CALS Program | Emergency Medical Training for Rural Healthcare Teams
REFRESH-INTERVAL;VALUE=DURATION:PT1H
X-Robots-Tag:noindex
X-PUBLISHED-TTL:PT1H
BEGIN:VTIMEZONE
TZID:UTC
BEGIN:STANDARD
TZOFFSETFROM:+0000
TZOFFSETTO:+0000
TZNAME:UTC
DTSTART:20210101T000000
END:STANDARD
END:VTIMEZONE
BEGIN:VEVENT
DTSTART;TZID=UTC:20220803T070000
DTEND;TZID=UTC:20220804T170000
DTSTAMP:20260421T132120
CREATED:20220721T231515Z
LAST-MODIFIED:20220721T231515Z
UID:4986-1659510000-1659632400@www.calsprogram.org
SUMMARY:Provider Course:  Plymouth\, MN  AUG 3-4 2022
DESCRIPTION:Register for this course.
URL:https://www.calsprogram.org/event/provider-course-plymouth-mn-aug-3-4-2022/
LOCATION:MN
CATEGORIES:Minnesota,Provider Course
END:VEVENT
BEGIN:VEVENT
DTSTART;TZID=UTC:20220804T140000
DTEND;TZID=UTC:20220804T180000
DTSTAMP:20260421T132120
CREATED:20220705T200206Z
LAST-MODIFIED:20220705T200206Z
UID:4968-1659621600-1659636000@www.calsprogram.org
SUMMARY:Trauma Module:  Plains MT  AUG 4 2022
DESCRIPTION:Register for this course.
URL:https://www.calsprogram.org/event/trauma-module-plains-mt-aug-4-2022/
LOCATION:MN
CATEGORIES:Montana,Trauma Module
END:VEVENT
END:VCALENDAR