BEGIN:VCALENDAR
VERSION:2.0
PRODID:-//CALS Program | Emergency Medical Training for Rural Healthcare Teams - ECPv6.15.20//NONSGML v1.0//EN
CALSCALE:GREGORIAN
METHOD:PUBLISH
X-ORIGINAL-URL:https://www.calsprogram.org
X-WR-CALDESC:Events for CALS Program | Emergency Medical Training for Rural Healthcare Teams
REFRESH-INTERVAL;VALUE=DURATION:PT1H
X-Robots-Tag:noindex
X-PUBLISHED-TTL:PT1H
BEGIN:VTIMEZONE
TZID:UTC
BEGIN:STANDARD
TZOFFSETFROM:+0000
TZOFFSETTO:+0000
TZNAME:UTC
DTSTART:20210101T000000
END:STANDARD
END:VTIMEZONE
BEGIN:VEVENT
DTSTART;TZID=UTC:20221020T070000
DTEND;TZID=UTC:20221021T170000
DTSTAMP:20260421T220839
CREATED:20220811T200714Z
LAST-MODIFIED:20220811T200714Z
UID:4998-1666249200-1666371600@www.calsprogram.org
SUMMARY:CALS 2-day Provider Course OCT 20-21 -- Springfield VT
DESCRIPTION:Register for course. \n 
URL:https://www.calsprogram.org/event/cals-2-day-provider-course/
CATEGORIES:Maine,Provider Course
END:VEVENT
END:VCALENDAR