BEGIN:VCALENDAR
VERSION:2.0
PRODID:-//CALS Program | Emergency Medical Training for Rural Healthcare Teams - ECPv6.15.20//NONSGML v1.0//EN
CALSCALE:GREGORIAN
METHOD:PUBLISH
X-ORIGINAL-URL:https://www.calsprogram.org
X-WR-CALDESC:Events for CALS Program | Emergency Medical Training for Rural Healthcare Teams
REFRESH-INTERVAL;VALUE=DURATION:PT1H
X-Robots-Tag:noindex
X-PUBLISHED-TTL:PT1H
BEGIN:VTIMEZONE
TZID:UTC
BEGIN:STANDARD
TZOFFSETFROM:+0000
TZOFFSETTO:+0000
TZNAME:UTC
DTSTART:20210101T000000
END:STANDARD
END:VTIMEZONE
BEGIN:VEVENT
DTSTART;TZID=UTC:20221109T070000
DTEND;TZID=UTC:20221110T170000
DTSTAMP:20260421T200244
CREATED:20221026T203959Z
LAST-MODIFIED:20221026T203959Z
UID:5052-1667977200-1668099600@www.calsprogram.org
SUMMARY:Provider Course:  Samoset\, ME  NOV 9-10 2022
DESCRIPTION:Register for this course
URL:https://www.calsprogram.org/event/provider-course-samoset-me-nov-9-10-2022/
CATEGORIES:Maine,Provider Course
END:VEVENT
BEGIN:VEVENT
DTSTART;TZID=UTC:20221117T070000
DTEND;TZID=UTC:20221118T170000
DTSTAMP:20260421T200244
CREATED:20220811T200942Z
LAST-MODIFIED:20220811T200942Z
UID:5001-1668668400-1668790800@www.calsprogram.org
SUMMARY:CANCELLED:  CALS 2-day Provider Course:  NOV 17-18 2022 -- Houlton\, ME
DESCRIPTION:Register for this course
URL:https://www.calsprogram.org/event/cals-2-day-provider-course-nov-17-18-2022-houlton-me/
CATEGORIES:Maine,Provider Course
END:VEVENT
END:VCALENDAR