BEGIN:VCALENDAR
VERSION:2.0
PRODID:-//CALS Program | Emergency Medical Training for Rural Healthcare Teams - ECPv6.15.20//NONSGML v1.0//EN
CALSCALE:GREGORIAN
METHOD:PUBLISH
X-ORIGINAL-URL:https://www.calsprogram.org
X-WR-CALDESC:Events for CALS Program | Emergency Medical Training for Rural Healthcare Teams
REFRESH-INTERVAL;VALUE=DURATION:PT1H
X-Robots-Tag:noindex
X-PUBLISHED-TTL:PT1H
BEGIN:VTIMEZONE
TZID:UTC
BEGIN:STANDARD
TZOFFSETFROM:+0000
TZOFFSETTO:+0000
TZNAME:UTC
DTSTART:20210101T000000
END:STANDARD
END:VTIMEZONE
BEGIN:VEVENT
DTSTART;TZID=UTC:20220412T160000
DTEND;TZID=UTC:20220412T193000
DTSTAMP:20260423T102527
CREATED:20211207T232950Z
LAST-MODIFIED:20211207T232950Z
UID:4833-1649779200-1649791800@www.calsprogram.org
SUMMARY:Trauma Module: Staples\, MN  APR 12 2022
DESCRIPTION:Register for this course
URL:https://www.calsprogram.org/event/trauma-module-staples-mn-apr-12-2022/
LOCATION:MN
CATEGORIES:Minnesota,Trauma Module
END:VEVENT
BEGIN:VEVENT
DTSTART;TZID=UTC:20220413T070000
DTEND;TZID=UTC:20220414T170000
DTSTAMP:20260423T102527
CREATED:20211103T205325Z
LAST-MODIFIED:20211103T205325Z
UID:4789-1649833200-1649955600@www.calsprogram.org
SUMMARY:Provider Course:  Staples\, MN -- APR 13-14\, 2022
DESCRIPTION:Register for this course
URL:https://www.calsprogram.org/event/provider-course-staples-mn-february-9-10-2022/
LOCATION:MN
CATEGORIES:Minnesota,Provider Course
END:VEVENT
BEGIN:VEVENT
DTSTART;TZID=UTC:20220419T160000
DTEND;TZID=UTC:20220419T193000
DTSTAMP:20260423T102527
CREATED:20211202T181810Z
LAST-MODIFIED:20211202T181810Z
UID:4822-1650384000-1650396600@www.calsprogram.org
SUMMARY:Trauma Module: Two Harbors\, MN  APR 19\, 2022
DESCRIPTION:Register for this course
URL:https://www.calsprogram.org/event/trauma-module-two-harbors-mn-apr-20-2022/
LOCATION:MN
CATEGORIES:Minnesota,Trauma Module
END:VEVENT
BEGIN:VEVENT
DTSTART;TZID=UTC:20220420T070000
DTEND;TZID=UTC:20220421T170000
DTSTAMP:20260423T102527
CREATED:20211202T181909Z
LAST-MODIFIED:20211202T181909Z
UID:4824-1650438000-1650560400@www.calsprogram.org
SUMMARY:Provider Course:  Two Harbors\, MN  APR 20-21 2022
DESCRIPTION:Register for this course
URL:https://www.calsprogram.org/event/provider-course-two-harbors-mn-apr-21-22-2022/
LOCATION:MN
CATEGORIES:Minnesota,Provider Course
END:VEVENT
END:VCALENDAR