BEGIN:VCALENDAR
VERSION:2.0
PRODID:-//CALS Program | Emergency Medical Training for Rural Healthcare Teams - ECPv6.15.20//NONSGML v1.0//EN
CALSCALE:GREGORIAN
METHOD:PUBLISH
X-ORIGINAL-URL:https://www.calsprogram.org
X-WR-CALDESC:Events for CALS Program | Emergency Medical Training for Rural Healthcare Teams
REFRESH-INTERVAL;VALUE=DURATION:PT1H
X-Robots-Tag:noindex
X-PUBLISHED-TTL:PT1H
BEGIN:VTIMEZONE
TZID:America/Chicago
BEGIN:DAYLIGHT
TZOFFSETFROM:-0600
TZOFFSETTO:-0500
TZNAME:CDT
DTSTART:20220313T080000
END:DAYLIGHT
BEGIN:STANDARD
TZOFFSETFROM:-0500
TZOFFSETTO:-0600
TZNAME:CST
DTSTART:20221106T070000
END:STANDARD
BEGIN:DAYLIGHT
TZOFFSETFROM:-0600
TZOFFSETTO:-0500
TZNAME:CDT
DTSTART:20230312T080000
END:DAYLIGHT
BEGIN:STANDARD
TZOFFSETFROM:-0500
TZOFFSETTO:-0600
TZNAME:CST
DTSTART:20231105T070000
END:STANDARD
BEGIN:DAYLIGHT
TZOFFSETFROM:-0600
TZOFFSETTO:-0500
TZNAME:CDT
DTSTART:20240310T080000
END:DAYLIGHT
BEGIN:STANDARD
TZOFFSETFROM:-0500
TZOFFSETTO:-0600
TZNAME:CST
DTSTART:20241103T070000
END:STANDARD
END:VTIMEZONE
BEGIN:VEVENT
DTSTART;TZID=America/Chicago:20230110T130000
DTEND;TZID=America/Chicago:20230110T170000
DTSTAMP:20260421T113822
CREATED:20220421T160231Z
LAST-MODIFIED:20220421T160231Z
UID:4905-1673355600-1673370000@www.calsprogram.org
SUMMARY:Trauma Module:  January 10\, 2023 -- DULUTH\, MN
DESCRIPTION:Register for this course.
URL:https://www.calsprogram.org/event/trauma-module-january-11-2023-plymouth-mn/
LOCATION:MN
CATEGORIES:Minnesota,Trauma Module
END:VEVENT
BEGIN:VEVENT
DTSTART;TZID=America/Chicago:20230111T070000
DTEND;TZID=America/Chicago:20230112T170000
DTSTAMP:20260421T113822
CREATED:20220421T160402Z
LAST-MODIFIED:20220421T160402Z
UID:4907-1673420400-1673542800@www.calsprogram.org
SUMMARY:Provider Course:  January 11-12\, 2023 -- DULUTH\, MN
DESCRIPTION:Register for this course.
URL:https://www.calsprogram.org/event/provider-course-january-11-12-2023-plymouth-mn/
LOCATION:MN
CATEGORIES:Minnesota,Provider Course
END:VEVENT
BEGIN:VEVENT
DTSTART;TZID=America/Chicago:20230124T160000
DTEND;TZID=America/Chicago:20230124T193000
DTSTAMP:20260421T113822
CREATED:20220926T155618Z
LAST-MODIFIED:20220926T155618Z
UID:5034-1674576000-1674588600@www.calsprogram.org
SUMMARY:Trauma Module:  Northfield\, MN  JAN 24\, 2023
DESCRIPTION:Register for this course.  \n 
URL:https://www.calsprogram.org/event/trauma-module-northfield-mn-jan-24-2023/
LOCATION:MN
CATEGORIES:Minnesota,Trauma Module
END:VEVENT
BEGIN:VEVENT
DTSTART;TZID=America/Chicago:20230125T070000
DTEND;TZID=America/Chicago:20230126T170000
DTSTAMP:20260421T113822
CREATED:20220926T155742Z
LAST-MODIFIED:20220926T155742Z
UID:5037-1674630000-1674752400@www.calsprogram.org
SUMMARY:Provider Course:  Northfield\, MN -- January 25-26\, 2023
DESCRIPTION:Register for this course.
URL:https://www.calsprogram.org/event/provider-course-northfield-mn-january-25-26-2023/
LOCATION:MN
CATEGORIES:Minnesota,Provider Course
END:VEVENT
END:VCALENDAR