BEGIN:VCALENDAR
VERSION:2.0
PRODID:-//CALS Program | Emergency Medical Training for Rural Healthcare Teams - ECPv6.15.20//NONSGML v1.0//EN
CALSCALE:GREGORIAN
METHOD:PUBLISH
X-ORIGINAL-URL:https://www.calsprogram.org
X-WR-CALDESC:Events for CALS Program | Emergency Medical Training for Rural Healthcare Teams
REFRESH-INTERVAL;VALUE=DURATION:PT1H
X-Robots-Tag:noindex
X-PUBLISHED-TTL:PT1H
BEGIN:VTIMEZONE
TZID:UTC
BEGIN:STANDARD
TZOFFSETFROM:+0000
TZOFFSETTO:+0000
TZNAME:UTC
DTSTART:20210101T000000
END:STANDARD
END:VTIMEZONE
BEGIN:VEVENT
DTSTART;TZID=UTC:20221115T160000
DTEND;TZID=UTC:20221115T193000
DTSTAMP:20260421T075924
CREATED:20220606T211706Z
LAST-MODIFIED:20220606T211706Z
UID:4951-1668528000-1668540600@www.calsprogram.org
SUMMARY:Trauma Module:  Ortonville\, MN NOV 15\, 2022
DESCRIPTION:Register for this Course.
URL:https://www.calsprogram.org/event/trauma-module-baldwin-wi-nov-15-2022/
LOCATION:MN
CATEGORIES:Minnesota,Trauma Module
END:VEVENT
END:VCALENDAR