BEGIN:VCALENDAR
VERSION:2.0
PRODID:-//CALS Program | Emergency Medical Training for Rural Healthcare Teams - ECPv6.15.20//NONSGML v1.0//EN
CALSCALE:GREGORIAN
METHOD:PUBLISH
X-ORIGINAL-URL:https://www.calsprogram.org
X-WR-CALDESC:Events for CALS Program | Emergency Medical Training for Rural Healthcare Teams
REFRESH-INTERVAL;VALUE=DURATION:PT1H
X-Robots-Tag:noindex
X-PUBLISHED-TTL:PT1H
BEGIN:VTIMEZONE
TZID:UTC
BEGIN:STANDARD
TZOFFSETFROM:+0000
TZOFFSETTO:+0000
TZNAME:UTC
DTSTART:20200101T000000
END:STANDARD
END:VTIMEZONE
BEGIN:VEVENT
DTSTART;TZID=UTC:20211001T080000
DTEND;TZID=UTC:20211001T120000
DTSTAMP:20260423T073109
CREATED:20210804T000915Z
LAST-MODIFIED:20210804T000915Z
UID:4696-1633075200-1633089600@www.calsprogram.org
SUMMARY:CALS Instructor UPDATE:  via ZOOM
DESCRIPTION:Register for this course
URL:https://www.calsprogram.org/event/cals-instructor-update-via-zoom/
CATEGORIES:Alaska,Maine,Minnesota,Montana,Wisconsin
END:VEVENT
BEGIN:VEVENT
DTSTART;TZID=UTC:20211011T000000
DTEND;TZID=UTC:20211011T233000
DTSTAMP:20260423T073109
CREATED:20210804T001319Z
LAST-MODIFIED:20210804T001319Z
UID:4702-1633910400-1633995000@www.calsprogram.org
SUMMARY:CALS Instructor UPDATE:  Pre-Recorded Session
DESCRIPTION:Register for this course
URL:https://www.calsprogram.org/event/cals-instructor-update-pre-recorded-session/
CATEGORIES:Alaska,Maine,Minnesota,Montana,Wisconsin
END:VEVENT
BEGIN:VEVENT
DTSTART;TZID=UTC:20211011T123000
DTEND;TZID=UTC:20211011T163000
DTSTAMP:20260423T073109
CREATED:20210804T001037Z
LAST-MODIFIED:20210804T001037Z
UID:4698-1633955400-1633969800@www.calsprogram.org
SUMMARY:CALS Instructor UPDATE:  LIVE/in person
DESCRIPTION:Register for this course
URL:https://www.calsprogram.org/event/cals-instructor-update-live-in-person-2/
CATEGORIES:Alaska,Maine,Minnesota,Montana,Wisconsin
END:VEVENT
BEGIN:VEVENT
DTSTART;TZID=UTC:20211011T123000
DTEND;TZID=UTC:20211011T163000
DTSTAMP:20260423T073109
CREATED:20210804T001154Z
LAST-MODIFIED:20210804T001154Z
UID:4700-1633955400-1633969800@www.calsprogram.org
SUMMARY:CALS Instructor UPDATE:  via ZOOM
DESCRIPTION:Register for this course
URL:https://www.calsprogram.org/event/cals-instructor-update-via-zoom-2/
CATEGORIES:Alaska,Maine,Minnesota,Montana,Wisconsin
END:VEVENT
BEGIN:VEVENT
DTSTART;TZID=UTC:20211013T160000
DTEND;TZID=UTC:20211013T193000
DTSTAMP:20260423T073109
CREATED:20210819T194314Z
LAST-MODIFIED:20210819T194314Z
UID:4723-1634140800-1634153400@www.calsprogram.org
SUMMARY:CX: Trauma Module: Terry\, MT  OCT 13\, 2021
DESCRIPTION:Register for this course.
URL:https://www.calsprogram.org/event/trauma-module-terry-mt-oct-13-2021/
CATEGORIES:Montana,Trauma Module
END:VEVENT
BEGIN:VEVENT
DTSTART;TZID=UTC:20211014T070000
DTEND;TZID=UTC:20211015T170000
DTSTAMP:20260423T073109
CREATED:20210819T194417Z
LAST-MODIFIED:20210819T194417Z
UID:4725-1634194800-1634317200@www.calsprogram.org
SUMMARY:CX: Provider Course: Terry\, MT  OCT 14-15\, 2021
DESCRIPTION:Register for this course.
URL:https://www.calsprogram.org/event/provider-course-terry-mt-oct-14-15-2021/
CATEGORIES:Montana,Provider Course
END:VEVENT
END:VCALENDAR