BEGIN:VCALENDAR
VERSION:2.0
PRODID:-//CALS Program | Emergency Medical Training for Rural Healthcare Teams - ECPv6.15.20//NONSGML v1.0//EN
CALSCALE:GREGORIAN
METHOD:PUBLISH
X-ORIGINAL-URL:https://www.calsprogram.org
X-WR-CALDESC:Events for CALS Program | Emergency Medical Training for Rural Healthcare Teams
REFRESH-INTERVAL;VALUE=DURATION:PT1H
X-Robots-Tag:noindex
X-PUBLISHED-TTL:PT1H
BEGIN:VTIMEZONE
TZID:UTC
BEGIN:STANDARD
TZOFFSETFROM:+0000
TZOFFSETTO:+0000
TZNAME:UTC
DTSTART:20210101T000000
END:STANDARD
END:VTIMEZONE
BEGIN:VTIMEZONE
TZID:America/Denver
BEGIN:DAYLIGHT
TZOFFSETFROM:-0700
TZOFFSETTO:-0600
TZNAME:MDT
DTSTART:20220313T090000
END:DAYLIGHT
BEGIN:STANDARD
TZOFFSETFROM:-0600
TZOFFSETTO:-0700
TZNAME:MST
DTSTART:20221106T080000
END:STANDARD
BEGIN:DAYLIGHT
TZOFFSETFROM:-0700
TZOFFSETTO:-0600
TZNAME:MDT
DTSTART:20230312T090000
END:DAYLIGHT
BEGIN:STANDARD
TZOFFSETFROM:-0600
TZOFFSETTO:-0700
TZNAME:MST
DTSTART:20231105T080000
END:STANDARD
BEGIN:DAYLIGHT
TZOFFSETFROM:-0700
TZOFFSETTO:-0600
TZNAME:MDT
DTSTART:20240310T090000
END:DAYLIGHT
BEGIN:STANDARD
TZOFFSETFROM:-0600
TZOFFSETTO:-0700
TZNAME:MST
DTSTART:20241103T080000
END:STANDARD
END:VTIMEZONE
BEGIN:VTIMEZONE
TZID:America/Denver
BEGIN:DAYLIGHT
TZOFFSETFROM:-0700
TZOFFSETTO:-0600
TZNAME:MDT
DTSTART:20220313T090000
END:DAYLIGHT
BEGIN:STANDARD
TZOFFSETFROM:-0600
TZOFFSETTO:-0700
TZNAME:MST
DTSTART:20221106T080000
END:STANDARD
BEGIN:DAYLIGHT
TZOFFSETFROM:-0700
TZOFFSETTO:-0600
TZNAME:MDT
DTSTART:20230312T090000
END:DAYLIGHT
BEGIN:STANDARD
TZOFFSETFROM:-0600
TZOFFSETTO:-0700
TZNAME:MST
DTSTART:20231105T080000
END:STANDARD
BEGIN:DAYLIGHT
TZOFFSETFROM:-0700
TZOFFSETTO:-0600
TZNAME:MDT
DTSTART:20240310T090000
END:DAYLIGHT
BEGIN:STANDARD
TZOFFSETFROM:-0600
TZOFFSETTO:-0700
TZNAME:MST
DTSTART:20241103T080000
END:STANDARD
END:VTIMEZONE
BEGIN:VEVENT
DTSTART;TZID=UTC:20220928T140000
DTEND;TZID=UTC:20220928T180000
DTSTAMP:20260423T144000
CREATED:20220705T221050Z
LAST-MODIFIED:20220705T221050Z
UID:4976-1664373600-1664388000@www.calsprogram.org
SUMMARY:Trauma Module:  Lewistown MT  SEPT 20 2022
DESCRIPTION:Register for this course
URL:https://www.calsprogram.org/event/trauma-module-lewistown-mt-sept-20-2022/
CATEGORIES:Montana,Trauma Module
END:VEVENT
BEGIN:VEVENT
DTSTART;TZID=UTC:20220929T070000
DTEND;TZID=UTC:20220930T170000
DTSTAMP:20260423T144000
CREATED:20220705T221147Z
LAST-MODIFIED:20220705T221147Z
UID:4978-1664434800-1664557200@www.calsprogram.org
SUMMARY:Provider Course:  Lewistown MT  SEPT 29-30 2022
DESCRIPTION:Register for this course
URL:https://www.calsprogram.org/event/provider-course-lewistown-mt-sept-29-30-2022/
CATEGORIES:Montana,Provider Course
END:VEVENT
BEGIN:VEVENT
DTSTART;TZID=America/Denver:20231027T140000
DTEND;TZID=America/Denver:20231027T180000
DTSTAMP:20260423T144000
CREATED:20230530T233353Z
LAST-MODIFIED:20230530T233353Z
UID:5229-1698415200-1698429600@www.calsprogram.org
SUMMARY:Trauma Module: Deer Lodge\, MT OCT 27 2023
DESCRIPTION:To register for this course\, Contact: cwilliams@montanahealthnetwork.com
URL:https://www.calsprogram.org/event/trauma-module-deer-lodge-mt-oct-27-2023/
CATEGORIES:Montana,Trauma Module
END:VEVENT
BEGIN:VEVENT
DTSTART;TZID=America/Denver:20231108T140000
DTEND;TZID=America/Denver:20231108T180000
DTSTAMP:20260423T144000
CREATED:20230530T233811Z
LAST-MODIFIED:20230530T233811Z
UID:5235-1699452000-1699466400@www.calsprogram.org
SUMMARY:Trauma Module: Red Lodge\, MT  NOV 8\, 2023
DESCRIPTION:To register for this course\, contact: cwilliams@montanahealthnetwork.com
URL:https://www.calsprogram.org/event/trauma-module-red-lodge-mt-nov-8-2023/
CATEGORIES:Montana,Trauma Module
END:VEVENT
BEGIN:VEVENT
DTSTART;TZID=America/Denver:20231109T070000
DTEND;TZID=America/Denver:20231110T170000
DTSTAMP:20260423T144000
CREATED:20230530T233947Z
LAST-MODIFIED:20230530T233947Z
UID:5239-1699513200-1699635600@www.calsprogram.org
SUMMARY:Provider Course:  Red Lodge\,MT  NOV 9-10 2023
DESCRIPTION:To register for this course\, contact: cwilliams@montanahealthnetwork.com
URL:https://www.calsprogram.org/event/provider-course-red-lodgemt-nov-9-10-2023/
CATEGORIES:Montana,Provider Course
END:VEVENT
BEGIN:VEVENT
DTSTART;TZID=UTC:20240320T170000
DTEND;TZID=UTC:20240320T210000
DTSTAMP:20260423T144000
CREATED:20240109T181707Z
LAST-MODIFIED:20240109T181707Z
UID:5388-1710954000-1710968400@www.calsprogram.org
SUMMARY:Trauma Module:  Glasgow\, MT  MAR 20 2024
DESCRIPTION:To Register for this course\, contact Christine Williams:  cwilliams@montanahealthnetwork.com
URL:https://www.calsprogram.org/event/trauma-module-glasgow-mt-mar-20-2024/
CATEGORIES:Montana,Trauma Module
END:VEVENT
BEGIN:VEVENT
DTSTART;TZID=UTC:20240321T070000
DTEND;TZID=UTC:20240322T170000
DTSTAMP:20260423T144000
CREATED:20240109T181834Z
LAST-MODIFIED:20240109T181834Z
UID:5391-1711004400-1711126800@www.calsprogram.org
SUMMARY:Provider Course: Glasgow\, MT  MAR 21-22\, 2024
DESCRIPTION:To register for this course\, contact Christine Williams:  cwilliams@montanahealthnetwork.com
URL:https://www.calsprogram.org/event/provider-course-glasgow-mt-mar-21-22-2024/
CATEGORIES:Montana,Provider Course
END:VEVENT
END:VCALENDAR