BEGIN:VCALENDAR
VERSION:2.0
PRODID:-//CALS Program | Emergency Medical Training for Rural Healthcare Teams - ECPv6.15.20//NONSGML v1.0//EN
CALSCALE:GREGORIAN
METHOD:PUBLISH
X-WR-CALNAME:CALS Program | Emergency Medical Training for Rural Healthcare Teams
X-ORIGINAL-URL:https://www.calsprogram.org
X-WR-CALDESC:Events for CALS Program | Emergency Medical Training for Rural Healthcare Teams
REFRESH-INTERVAL;VALUE=DURATION:PT1H
X-Robots-Tag:noindex
X-PUBLISHED-TTL:PT1H
BEGIN:VTIMEZONE
TZID:UTC
BEGIN:STANDARD
TZOFFSETFROM:+0000
TZOFFSETTO:+0000
TZNAME:UTC
DTSTART:20170101T000000
END:STANDARD
END:VTIMEZONE
BEGIN:VEVENT
DTSTART;VALUE=DATE:20181024
DTEND;VALUE=DATE:20181026
DTSTAMP:20260421T112307
CREATED:20180816T181456Z
LAST-MODIFIED:20180816T181456Z
UID:838-1540339200-1540511999@www.calsprogram.org
SUMMARY:Provider Course: Spooner\, WI
DESCRIPTION:Register for this course.
URL:https://www.calsprogram.org/event/provider-course-spooner-wi/
CATEGORIES:Provider Course,Wisconsin
END:VEVENT
BEGIN:VEVENT
DTSTART;VALUE=DATE:20181012
DTEND;VALUE=DATE:20181013
DTSTAMP:20260421T112307
CREATED:20180816T181214Z
LAST-MODIFIED:20180816T181214Z
UID:833-1539302400-1539388799@www.calsprogram.org
SUMMARY:Provider Course (COMBO w/ TM): Lewistown\, MT
DESCRIPTION:Register for this course.
URL:https://www.calsprogram.org/event/provider-course-combo-w-tm-lewistown-mt/
CATEGORIES:Montana,Provider Course
END:VEVENT
BEGIN:VEVENT
DTSTART;VALUE=DATE:20181011
DTEND;VALUE=DATE:20181013
DTSTAMP:20260421T112307
CREATED:20180816T180849Z
LAST-MODIFIED:20180816T180849Z
UID:828-1539216000-1539388799@www.calsprogram.org
SUMMARY:Provider Course: Aitkin\, MN
DESCRIPTION:Register for this course.
URL:https://www.calsprogram.org/event/provider-course-aitkin-mn/
CATEGORIES:Minnesota,Provider Course
END:VEVENT
BEGIN:VEVENT
DTSTART;VALUE=DATE:20180927
DTEND;VALUE=DATE:20180929
DTSTAMP:20260421T112307
CREATED:20180816T180449Z
LAST-MODIFIED:20180816T180449Z
UID:822-1538006400-1538179199@www.calsprogram.org
SUMMARY:Provider Course: Melrose\, MN
DESCRIPTION:Register for this course.
URL:https://www.calsprogram.org/event/provider-course-melrose-mn/
CATEGORIES:Minnesota,Provider Course
END:VEVENT
BEGIN:VEVENT
DTSTART;VALUE=DATE:20180911
DTEND;VALUE=DATE:20180913
DTSTAMP:20260421T112307
CREATED:20180807T180810Z
LAST-MODIFIED:20180807T180810Z
UID:743-1536624000-1536796799@www.calsprogram.org
SUMMARY:Provider Course: Luverne\, MN
DESCRIPTION:Register for this course.
URL:https://www.calsprogram.org/event/provider-course-luverne-mn/
CATEGORIES:Minnesota,Provider Course
END:VEVENT
BEGIN:VEVENT
DTSTART;VALUE=DATE:20180821
DTEND;VALUE=DATE:20180823
DTSTAMP:20260421T112307
CREATED:20180807T180354Z
LAST-MODIFIED:20180807T180354Z
UID:739-1534809600-1534982399@www.calsprogram.org
SUMMARY:Provider Course: 109th AES MSP
DESCRIPTION:This course is full.
URL:https://www.calsprogram.org/event/provider-course-109th-aes-msp/
CATEGORIES:Full,Minnesota,Provider Course
END:VEVENT
BEGIN:VEVENT
DTSTART;VALUE=DATE:20180809
DTEND;VALUE=DATE:20180811
DTSTAMP:20260421T112307
CREATED:20180807T175150Z
LAST-MODIFIED:20180807T175150Z
UID:724-1533772800-1533945599@www.calsprogram.org
SUMMARY:Provider Course: Fosston\, MN
DESCRIPTION:This course is full.
URL:https://www.calsprogram.org/event/provider-course-fosston-mn-aug-9-10-2018/
CATEGORIES:Full,Minnesota,Provider Course
END:VEVENT
END:VCALENDAR