BEGIN:VCALENDAR
VERSION:2.0
PRODID:-//CALS Program | Emergency Medical Training for Rural Healthcare Teams - ECPv6.15.20//NONSGML v1.0//EN
CALSCALE:GREGORIAN
METHOD:PUBLISH
X-WR-CALNAME:CALS Program | Emergency Medical Training for Rural Healthcare Teams
X-ORIGINAL-URL:https://www.calsprogram.org
X-WR-CALDESC:Events for CALS Program | Emergency Medical Training for Rural Healthcare Teams
REFRESH-INTERVAL;VALUE=DURATION:PT1H
X-Robots-Tag:noindex
X-PUBLISHED-TTL:PT1H
BEGIN:VTIMEZONE
TZID:UTC
BEGIN:STANDARD
TZOFFSETFROM:+0000
TZOFFSETTO:+0000
TZNAME:UTC
DTSTART:20220101T000000
END:STANDARD
END:VTIMEZONE
BEGIN:VEVENT
DTSTART;TZID=UTC:20230905T160000
DTEND;TZID=UTC:20230905T193000
DTSTAMP:20260421T175251
CREATED:20230328T235519Z
LAST-MODIFIED:20230328T235519Z
UID:5178-1693929600-1693942200@www.calsprogram.org
SUMMARY:Trauma Module:  Chetek\, WI  SEPT 5 2023
DESCRIPTION:Register for this course
URL:https://www.calsprogram.org/event/trauma-module-chetek-wi-sept-5-2023/
CATEGORIES:Trauma Module,Wisconsin
END:VEVENT
END:VCALENDAR