BEGIN:VCALENDAR
VERSION:2.0
PRODID:-//CALS Program | Emergency Medical Training for Rural Healthcare Teams - ECPv6.15.20//NONSGML v1.0//EN
CALSCALE:GREGORIAN
METHOD:PUBLISH
X-ORIGINAL-URL:https://www.calsprogram.org
X-WR-CALDESC:Events for CALS Program | Emergency Medical Training for Rural Healthcare Teams
REFRESH-INTERVAL;VALUE=DURATION:PT1H
X-Robots-Tag:noindex
X-PUBLISHED-TTL:PT1H
BEGIN:VTIMEZONE
TZID:UTC
BEGIN:STANDARD
TZOFFSETFROM:+0000
TZOFFSETTO:+0000
TZNAME:UTC
DTSTART:20230101T000000
END:STANDARD
END:VTIMEZONE
BEGIN:VTIMEZONE
TZID:America/Chicago
BEGIN:DAYLIGHT
TZOFFSETFROM:-0600
TZOFFSETTO:-0500
TZNAME:CDT
DTSTART:20230312T080000
END:DAYLIGHT
BEGIN:STANDARD
TZOFFSETFROM:-0500
TZOFFSETTO:-0600
TZNAME:CST
DTSTART:20231105T070000
END:STANDARD
BEGIN:DAYLIGHT
TZOFFSETFROM:-0600
TZOFFSETTO:-0500
TZNAME:CDT
DTSTART:20240310T080000
END:DAYLIGHT
BEGIN:STANDARD
TZOFFSETFROM:-0500
TZOFFSETTO:-0600
TZNAME:CST
DTSTART:20241103T070000
END:STANDARD
BEGIN:DAYLIGHT
TZOFFSETFROM:-0600
TZOFFSETTO:-0500
TZNAME:CDT
DTSTART:20250309T080000
END:DAYLIGHT
BEGIN:STANDARD
TZOFFSETFROM:-0500
TZOFFSETTO:-0600
TZNAME:CST
DTSTART:20251102T070000
END:STANDARD
END:VTIMEZONE
BEGIN:VTIMEZONE
TZID:America/Anchorage
BEGIN:DAYLIGHT
TZOFFSETFROM:-0900
TZOFFSETTO:-0800
TZNAME:AKDT
DTSTART:20230312T110000
END:DAYLIGHT
BEGIN:STANDARD
TZOFFSETFROM:-0800
TZOFFSETTO:-0900
TZNAME:AKST
DTSTART:20231105T100000
END:STANDARD
BEGIN:DAYLIGHT
TZOFFSETFROM:-0900
TZOFFSETTO:-0800
TZNAME:AKDT
DTSTART:20240310T110000
END:DAYLIGHT
BEGIN:STANDARD
TZOFFSETFROM:-0800
TZOFFSETTO:-0900
TZNAME:AKST
DTSTART:20241103T100000
END:STANDARD
BEGIN:DAYLIGHT
TZOFFSETFROM:-0900
TZOFFSETTO:-0800
TZNAME:AKDT
DTSTART:20250309T110000
END:DAYLIGHT
BEGIN:STANDARD
TZOFFSETFROM:-0800
TZOFFSETTO:-0900
TZNAME:AKST
DTSTART:20251102T100000
END:STANDARD
END:VTIMEZONE
BEGIN:VEVENT
DTSTART;TZID=UTC:20240120T070000
DTEND;TZID=UTC:20240120T110000
DTSTAMP:20260423T051226
CREATED:20230207T234227Z
LAST-MODIFIED:20230207T234227Z
UID:5134-1705734000-1705748400@www.calsprogram.org
SUMMARY:Trauma Module:  Osage\, IA  JAN 20 2024
DESCRIPTION:Register for this course.
URL:https://www.calsprogram.org/event/trauma-module-osage-ia-jan-19-2024/
CATEGORIES:Iowa,Trauma Module
END:VEVENT
BEGIN:VEVENT
DTSTART;TZID=UTC:20240221T070000
DTEND;TZID=UTC:20240221T110000
DTSTAMP:20260423T051226
CREATED:20230817T165720Z
LAST-MODIFIED:20230817T165720Z
UID:5275-1708498800-1708513200@www.calsprogram.org
SUMMARY:Trauma Module: Plymouth\, MN -- FEB 21\, 2024
DESCRIPTION:Register for this course
URL:https://www.calsprogram.org/event/trauma-module-pipestone-mn-feb-20-2024/
CATEGORIES:Minnesota,Trauma Module
END:VEVENT
BEGIN:VEVENT
DTSTART;TZID=America/Chicago:20240306T070000
DTEND;TZID=America/Chicago:20240306T230000
DTSTAMP:20260423T051226
CREATED:20230727T195426Z
LAST-MODIFIED:20230727T195426Z
UID:5263-1709708400-1709766000@www.calsprogram.org
SUMMARY:Trauma Module:  Alexandria\, MN -- MAR 6 2024
DESCRIPTION:Register for this course
URL:https://www.calsprogram.org/event/trauma-module-alexandria-mn-mar-5-2024/
CATEGORIES:Minnesota,Trauma Module
END:VEVENT
BEGIN:VEVENT
DTSTART;TZID=UTC:20240313T070000
DTEND;TZID=UTC:20240313T230000
DTSTAMP:20260423T051226
CREATED:20230817T225652Z
LAST-MODIFIED:20230817T225652Z
UID:5282-1710313200-1710370800@www.calsprogram.org
SUMMARY:Trauma Module:  Duluth\, MN MARCH 13 2024
DESCRIPTION:Register for course
URL:https://www.calsprogram.org/event/trauma-module-duluth-mn-march-12-2024/
CATEGORIES:Minnesota,Trauma Module
END:VEVENT
BEGIN:VEVENT
DTSTART;TZID=UTC:20240319T130000
DTEND;TZID=UTC:20240319T170000
DTSTAMP:20260423T051226
CREATED:20231219T202405Z
LAST-MODIFIED:20231219T202405Z
UID:5374-1710853200-1710867600@www.calsprogram.org
SUMMARY:Trauma Module:  Sulphur\, OK MAR 19 2024
DESCRIPTION:Register for this course
URL:https://www.calsprogram.org/event/trauma-module-sulphur-ok-mar-19-2024/
CATEGORIES:Oklahoma,Trauma Module
END:VEVENT
BEGIN:VEVENT
DTSTART;TZID=UTC:20240320T170000
DTEND;TZID=UTC:20240320T210000
DTSTAMP:20260423T051226
CREATED:20240109T181707Z
LAST-MODIFIED:20240109T181707Z
UID:5388-1710954000-1710968400@www.calsprogram.org
SUMMARY:Trauma Module:  Glasgow\, MT  MAR 20 2024
DESCRIPTION:To Register for this course\, contact Christine Williams:  cwilliams@montanahealthnetwork.com
URL:https://www.calsprogram.org/event/trauma-module-glasgow-mt-mar-20-2024/
CATEGORIES:Montana,Trauma Module
END:VEVENT
BEGIN:VEVENT
DTSTART;TZID=UTC:20240327T070000
DTEND;TZID=UTC:20240327T230000
DTSTAMP:20260423T051226
CREATED:20230912T153709Z
LAST-MODIFIED:20230912T153709Z
UID:5306-1711522800-1711580400@www.calsprogram.org
SUMMARY:Trauma Module:  Fosston\, MN -- MAR 27 2024
DESCRIPTION:Register for this course.
URL:https://www.calsprogram.org/event/trauma-module-fosston-mn-mar-26-2024/
CATEGORIES:Minnesota,Trauma Module
END:VEVENT
BEGIN:VEVENT
DTSTART;TZID=UTC:20240411T070000
DTEND;TZID=UTC:20240411T230000
DTSTAMP:20260423T051226
CREATED:20230914T192113Z
LAST-MODIFIED:20230914T192113Z
UID:5314-1712818800-1712876400@www.calsprogram.org
SUMMARY:Trauma Module: Ortonville\, MN -- APR 11\, 2024
DESCRIPTION:Register for this course.
URL:https://www.calsprogram.org/event/trauma-module-ortonville-mn-apr-10-2024/
CATEGORIES:Minnesota,Trauma Module
END:VEVENT
BEGIN:VEVENT
DTSTART;TZID=UTC:20240424T070000
DTEND;TZID=UTC:20240424T110000
DTSTAMP:20260423T051226
CREATED:20230817T164618Z
LAST-MODIFIED:20230817T164618Z
UID:5270-1713942000-1713956400@www.calsprogram.org
SUMMARY:TRAUMA MODULE: Marshall \, MN  APR 24\, 2024
DESCRIPTION:Register for this course
URL:https://www.calsprogram.org/event/trauma-module-marshall-mn-apr-23-2024/
CATEGORIES:Minnesota,Trauma Module
END:VEVENT
BEGIN:VEVENT
DTSTART;TZID=UTC:20240426T073000
DTEND;TZID=UTC:20240428T170000
DTSTAMP:20260423T051226
CREATED:20231016T155718Z
LAST-MODIFIED:20231016T155718Z
UID:5336-1714116600-1714323600@www.calsprogram.org
SUMMARY:CANCELLED Trauma Module & Provider Course:  Sitka\, AK  APR 26-28 2024
DESCRIPTION:Course cancelled.
URL:https://www.calsprogram.org/event/provider-course-sitka-ak-apr-27-28-2024/
CATEGORIES:Alaska,Provider Course,Trauma Module
END:VEVENT
BEGIN:VEVENT
DTSTART;TZID=America/Anchorage:20240503T070000
DTEND;TZID=America/Anchorage:20240505T170000
DTSTAMP:20260423T051226
CREATED:20240214T010310Z
LAST-MODIFIED:20240214T010310Z
UID:5409-1714719600-1714928400@www.calsprogram.org
SUMMARY:Trauma Module & Provider Course: Anchorage\, AK -- May 3-5\, 2024
DESCRIPTION:To register for this course: \nIf you are an MD/DO/NP/PA use this link:  https://continuingstudies.alaska.edu/Registration.aspx?AffiliateID=6Q68Q3&FilterSectionIndex=1588 \nIf you are an RN/Paramedic use this link:  https://continuingstudies.alaska.edu/Registration.aspx?AffiliateID=6Q68Q3&FilterSectionIndex=1589 \n 
URL:https://www.calsprogram.org/event/provider-course-anchorage-ak-may-4-5-2024/
CATEGORIES:Alaska,Provider Course,Trauma Module
END:VEVENT
BEGIN:VEVENT
DTSTART;TZID=UTC:20240507T070000
DTEND;TZID=UTC:20240507T230000
DTSTAMP:20260423T051226
CREATED:20230914T233645Z
LAST-MODIFIED:20230914T233645Z
UID:5319-1715065200-1715122800@www.calsprogram.org
SUMMARY:Trauma Module:  Chetek\, WI  MAY 7\, 2024
DESCRIPTION:Register for this course.
URL:https://www.calsprogram.org/event/trauma-module-chetek-wi-may-6-2024/
CATEGORIES:Minnesota,Trauma Module
END:VEVENT
BEGIN:VEVENT
DTSTART;TZID=UTC:20240521T070000
DTEND;TZID=UTC:20240521T230000
DTSTAMP:20260423T051226
CREATED:20240103T221007Z
LAST-MODIFIED:20240103T221007Z
UID:5380-1716274800-1716332400@www.calsprogram.org
SUMMARY:Trauma Module:  Baudette\, MN  MAY 21\, 2024
DESCRIPTION:Register for this course
URL:https://www.calsprogram.org/event/trauma-module-baudette-mn-may-21-2024/
CATEGORIES:Minnesota,Trauma Module
END:VEVENT
BEGIN:VEVENT
DTSTART;TZID=America/Chicago:20240530T070000
DTEND;TZID=America/Chicago:20240530T110000
DTSTAMP:20260423T051226
CREATED:20231118T002607Z
LAST-MODIFIED:20231118T002607Z
UID:5356-1717052400-1717066800@www.calsprogram.org
SUMMARY:Trauma Module:  Melrose\, MN -- May 30\, 2024
DESCRIPTION:Register for this course.
URL:https://www.calsprogram.org/event/trauma-module-melrose-mn-may-30-2024/
CATEGORIES:Minnesota,Trauma Module
END:VEVENT
BEGIN:VEVENT
DTSTART;TZID=UTC:20240604T070000
DTEND;TZID=UTC:20240604T110000
DTSTAMP:20260423T051226
CREATED:20231118T003359Z
LAST-MODIFIED:20231118T003359Z
UID:5360-1717484400-1717498800@www.calsprogram.org
SUMMARY:Trauma Module: Plymouth\, MN -- JUNE 4\, 2024
DESCRIPTION:Register for this course.
URL:https://www.calsprogram.org/event/trauma-module-plymouth-mn-june-4-2024/
CATEGORIES:Minnesota,Trauma Module
END:VEVENT
BEGIN:VEVENT
DTSTART;TZID=America/Chicago:20240619T070000
DTEND;TZID=America/Chicago:20240619T110000
DTSTAMP:20260423T051226
CREATED:20231219T175446Z
LAST-MODIFIED:20231219T175446Z
UID:5369-1718780400-1718794800@www.calsprogram.org
SUMMARY:Trauma Module:  Moose Lake\, MN  JUN 19 2024
DESCRIPTION:Register for this course.
URL:https://www.calsprogram.org/event/trauma-module-moose-lake-mn-jun-19-2024/
CATEGORIES:Minnesota,Trauma Module
END:VEVENT
BEGIN:VEVENT
DTSTART;TZID=America/Chicago:20240820T070000
DTEND;TZID=America/Chicago:20240820T110000
DTSTAMP:20260423T051226
CREATED:20240304T193947Z
LAST-MODIFIED:20240304T193947Z
UID:5439-1724137200-1724151600@www.calsprogram.org
SUMMARY:Trauma Module:  LITTLE FALLS\, MN  AUG 20 2024
DESCRIPTION:Register for this course.  \n 
URL:https://www.calsprogram.org/event/trauma-module-little-falls-mn-aug-20-2024/
CATEGORIES:Minnesota,Trauma Module
END:VEVENT
BEGIN:VEVENT
DTSTART;TZID=UTC:20240926T070000
DTEND;TZID=UTC:20240926T110000
DTSTAMP:20260423T051226
CREATED:20240214T010902Z
LAST-MODIFIED:20240214T010902Z
UID:5411-1727334000-1727348400@www.calsprogram.org
SUMMARY:Trauma Module:  Aitkin\, MN  SEPT 26\, 2024
DESCRIPTION:Register for this course. 
URL:https://www.calsprogram.org/event/trauma-module-aitkin-mn-sept-26-2024/
CATEGORIES:Minnesota,Trauma Module
END:VEVENT
BEGIN:VEVENT
DTSTART;TZID=UTC:20241001T070000
DTEND;TZID=UTC:20241001T110000
DTSTAMP:20260423T051226
CREATED:20230829T192127Z
LAST-MODIFIED:20230829T192127Z
UID:5297-1727766000-1727780400@www.calsprogram.org
SUMMARY:Trauma Module: LUVERNE MN  OCT 1 2024
DESCRIPTION:Register for this course.
URL:https://www.calsprogram.org/event/trauma-module-luverne-mn-sept-30-2024/
CATEGORIES:Minnesota,Trauma Module
END:VEVENT
BEGIN:VEVENT
DTSTART;TZID=America/Chicago:20241029T070000
DTEND;TZID=America/Chicago:20241029T110000
DTSTAMP:20260423T051226
CREATED:20231118T002036Z
LAST-MODIFIED:20231118T002036Z
UID:5352-1730185200-1730199600@www.calsprogram.org
SUMMARY:Trauma Module:  Mora MN - OCT 29 2024
DESCRIPTION:Register for this course.
URL:https://www.calsprogram.org/event/trauma-module-mora-mn-oct-29-2024/
CATEGORIES:Minnesota,Trauma Module
END:VEVENT
END:VCALENDAR