BEGIN:VCALENDAR
VERSION:2.0
PRODID:-//CALS Program | Emergency Medical Training for Rural Healthcare Teams - ECPv6.15.20//NONSGML v1.0//EN
CALSCALE:GREGORIAN
METHOD:PUBLISH
X-ORIGINAL-URL:https://www.calsprogram.org
X-WR-CALDESC:Events for CALS Program | Emergency Medical Training for Rural Healthcare Teams
REFRESH-INTERVAL;VALUE=DURATION:PT1H
X-Robots-Tag:noindex
X-PUBLISHED-TTL:PT1H
BEGIN:VTIMEZONE
TZID:UTC
BEGIN:STANDARD
TZOFFSETFROM:+0000
TZOFFSETTO:+0000
TZNAME:UTC
DTSTART:20170101T000000
END:STANDARD
END:VTIMEZONE
BEGIN:VEVENT
DTSTART;VALUE=DATE:20181005
DTEND;VALUE=DATE:20181006
DTSTAMP:20260421T235408
CREATED:20180816T180609Z
LAST-MODIFIED:20180816T180609Z
UID:824-1538697600-1538783999@www.calsprogram.org
SUMMARY:CALS Instructor UPDATE
DESCRIPTION:Register for this events.
URL:https://www.calsprogram.org/event/cals-instructor-update/
LOCATION:MN
CATEGORIES:Minnesota
END:VEVENT
BEGIN:VEVENT
DTSTART;VALUE=DATE:20181010
DTEND;VALUE=DATE:20181011
DTSTAMP:20260421T235408
CREATED:20180816T180746Z
LAST-MODIFIED:20180816T180746Z
UID:826-1539129600-1539215999@www.calsprogram.org
SUMMARY:Trauma Module: Aitkin\, MN
DESCRIPTION:Register for this course.
URL:https://www.calsprogram.org/event/trauma-module-aitkin-mn/
LOCATION:MN
CATEGORIES:Minnesota,Trauma Module
END:VEVENT
BEGIN:VEVENT
DTSTART;VALUE=DATE:20181011
DTEND;VALUE=DATE:20181012
DTSTAMP:20260421T235408
CREATED:20180816T181037Z
LAST-MODIFIED:20180816T181037Z
UID:830-1539216000-1539302399@www.calsprogram.org
SUMMARY:Trauma Module (ONLY): Lewistown\, MT
DESCRIPTION:This course is full.
URL:https://www.calsprogram.org/event/trauma-module-only-lewistown-mt/
LOCATION:MN
CATEGORIES:Full,Montana,Trauma Module
END:VEVENT
BEGIN:VEVENT
DTSTART;VALUE=DATE:20181011
DTEND;VALUE=DATE:20181013
DTSTAMP:20260421T235408
CREATED:20180816T180849Z
LAST-MODIFIED:20180816T180849Z
UID:828-1539216000-1539388799@www.calsprogram.org
SUMMARY:Provider Course: Aitkin\, MN
DESCRIPTION:Register for this course.
URL:https://www.calsprogram.org/event/provider-course-aitkin-mn/
LOCATION:MN
CATEGORIES:Minnesota,Provider Course
END:VEVENT
BEGIN:VEVENT
DTSTART;VALUE=DATE:20181012
DTEND;VALUE=DATE:20181013
DTSTAMP:20260421T235408
CREATED:20180816T181214Z
LAST-MODIFIED:20180816T181214Z
UID:833-1539302400-1539388799@www.calsprogram.org
SUMMARY:Provider Course (COMBO w/ TM): Lewistown\, MT
DESCRIPTION:Register for this course.
URL:https://www.calsprogram.org/event/provider-course-combo-w-tm-lewistown-mt/
LOCATION:MN
CATEGORIES:Montana,Provider Course
END:VEVENT
BEGIN:VEVENT
DTSTART;VALUE=DATE:20181023
DTEND;VALUE=DATE:20181024
DTSTAMP:20260421T235408
CREATED:20180816T181353Z
LAST-MODIFIED:20180816T181353Z
UID:835-1540252800-1540339199@www.calsprogram.org
SUMMARY:Trauma Module: Spooner\, WI
DESCRIPTION:Register for this course.
URL:https://www.calsprogram.org/event/trauma-module-spooner-wi/
LOCATION:MN
CATEGORIES:Trauma Module,Wisconsin
END:VEVENT
BEGIN:VEVENT
DTSTART;VALUE=DATE:20181024
DTEND;VALUE=DATE:20181026
DTSTAMP:20260421T235408
CREATED:20180816T181456Z
LAST-MODIFIED:20180816T181456Z
UID:838-1540339200-1540511999@www.calsprogram.org
SUMMARY:Provider Course: Spooner\, WI
DESCRIPTION:Register for this course.
URL:https://www.calsprogram.org/event/provider-course-spooner-wi/
LOCATION:MN
CATEGORIES:Provider Course,Wisconsin
END:VEVENT
BEGIN:VEVENT
DTSTART;VALUE=DATE:20181025
DTEND;VALUE=DATE:20181026
DTSTAMP:20260421T235408
CREATED:20180816T181655Z
LAST-MODIFIED:20180816T181655Z
UID:840-1540425600-1540511999@www.calsprogram.org
SUMMARY:Trauma Module: Wadena\, MN
DESCRIPTION:Register for this course.
URL:https://www.calsprogram.org/event/trauma-module-wadena-mn/
LOCATION:MN
CATEGORIES:Minnesota,Trauma Module
END:VEVENT
BEGIN:VEVENT
DTSTART;VALUE=DATE:20181026
DTEND;VALUE=DATE:20181028
DTSTAMP:20260421T235408
CREATED:20180816T181754Z
LAST-MODIFIED:20180816T181754Z
UID:843-1540512000-1540684799@www.calsprogram.org
SUMMARY:Provider Course: Wadena\, MN
DESCRIPTION:Register for this course.
URL:https://www.calsprogram.org/event/provider-course-wadena-mn/
LOCATION:MN
CATEGORIES:Minnesota,Provider Course
END:VEVENT
END:VCALENDAR