BEGIN:VCALENDAR
VERSION:2.0
PRODID:-//CALS Program | Emergency Medical Training for Rural Healthcare Teams - ECPv6.15.20//NONSGML v1.0//EN
CALSCALE:GREGORIAN
METHOD:PUBLISH
X-WR-CALNAME:CALS Program | Emergency Medical Training for Rural Healthcare Teams
X-ORIGINAL-URL:https://www.calsprogram.org
X-WR-CALDESC:Events for CALS Program | Emergency Medical Training for Rural Healthcare Teams
REFRESH-INTERVAL;VALUE=DURATION:PT1H
X-Robots-Tag:noindex
X-PUBLISHED-TTL:PT1H
BEGIN:VTIMEZONE
TZID:UTC
BEGIN:STANDARD
TZOFFSETFROM:+0000
TZOFFSETTO:+0000
TZNAME:UTC
DTSTART:20170101T000000
END:STANDARD
END:VTIMEZONE
BEGIN:VEVENT
DTSTART;VALUE=DATE:20181105
DTEND;VALUE=DATE:20181106
DTSTAMP:20260421T205617
CREATED:20180816T181906Z
LAST-MODIFIED:20180816T181906Z
UID:845-1541376000-1541462399@www.calsprogram.org
SUMMARY:Trauma Module: LOCATION TBD
DESCRIPTION:
URL:https://www.calsprogram.org/event/trauma-module-location-tbd/
LOCATION:MN
CATEGORIES:Trauma Module
END:VEVENT
BEGIN:VEVENT
DTSTART;VALUE=DATE:20181106
DTEND;VALUE=DATE:20181108
DTSTAMP:20260421T205617
CREATED:20180816T182032Z
LAST-MODIFIED:20180816T182032Z
UID:848-1541462400-1541635199@www.calsprogram.org
SUMMARY:Provider Course: LOCATION TBD
DESCRIPTION:Register for this course.
URL:https://www.calsprogram.org/event/provider-course-location-tbd/
LOCATION:MN
CATEGORIES:Provider Course
END:VEVENT
BEGIN:VEVENT
DTSTART;VALUE=DATE:20181108
DTEND;VALUE=DATE:20181109
DTSTAMP:20260421T205617
CREATED:20180816T182416Z
LAST-MODIFIED:20180816T182416Z
UID:853-1541635200-1541721599@www.calsprogram.org
SUMMARY:Provider Course (COMBO w/ TM): Polson\, MT
DESCRIPTION:Register for this course.
URL:https://www.calsprogram.org/event/provider-course-combo-w-tm-polson-mt/
LOCATION:MN
CATEGORIES:Montana,Provider Course
END:VEVENT
BEGIN:VEVENT
DTSTART;VALUE=DATE:20181114
DTEND;VALUE=DATE:20181115
DTSTAMP:20260421T205617
CREATED:20180816T182526Z
LAST-MODIFIED:20180816T182526Z
UID:855-1542153600-1542239999@www.calsprogram.org
SUMMARY:Trauma Module: LOCATION TBD
DESCRIPTION:Register for this course.
URL:https://www.calsprogram.org/event/trauma-module-location-tbd-2/
LOCATION:MN
CATEGORIES:Trauma Module
END:VEVENT
BEGIN:VEVENT
DTSTART;VALUE=DATE:20181115
DTEND;VALUE=DATE:20181117
DTSTAMP:20260421T205617
CREATED:20180816T182618Z
LAST-MODIFIED:20180816T182618Z
UID:857-1542240000-1542412799@www.calsprogram.org
SUMMARY:Provider Course: LOCATION TBD
DESCRIPTION:Register for this course.
URL:https://www.calsprogram.org/event/provider-course-location-tbd-2/
LOCATION:MN
CATEGORIES:Provider Course
END:VEVENT
BEGIN:VEVENT
DTSTART;VALUE=DATE:20181128
DTEND;VALUE=DATE:20181129
DTSTAMP:20260421T205617
CREATED:20180816T182800Z
LAST-MODIFIED:20180816T182800Z
UID:859-1543363200-1543449599@www.calsprogram.org
SUMMARY:Trauma Module: Hendricks\, MN
DESCRIPTION:Register for this course.
URL:https://www.calsprogram.org/event/trauma-module-hendricks-mn/
LOCATION:MN
CATEGORIES:Minnesota,Trauma Module
END:VEVENT
BEGIN:VEVENT
DTSTART;VALUE=DATE:20181129
DTEND;VALUE=DATE:20181201
DTSTAMP:20260421T205617
CREATED:20180816T182857Z
LAST-MODIFIED:20180816T182857Z
UID:862-1543449600-1543622399@www.calsprogram.org
SUMMARY:Provider Course: Hendricks\, MN
DESCRIPTION:Register for this course.
URL:https://www.calsprogram.org/event/provider-course-hendricks-mn/
LOCATION:MN
CATEGORIES:Minnesota,Provider Course
END:VEVENT
END:VCALENDAR