BEGIN:VCALENDAR
VERSION:2.0
PRODID:-//CALS Program | Emergency Medical Training for Rural Healthcare Teams - ECPv6.15.20//NONSGML v1.0//EN
CALSCALE:GREGORIAN
METHOD:PUBLISH
X-ORIGINAL-URL:https://www.calsprogram.org
X-WR-CALDESC:Events for CALS Program | Emergency Medical Training for Rural Healthcare Teams
REFRESH-INTERVAL;VALUE=DURATION:PT1H
X-Robots-Tag:noindex
X-PUBLISHED-TTL:PT1H
BEGIN:VTIMEZONE
TZID:UTC
BEGIN:STANDARD
TZOFFSETFROM:+0000
TZOFFSETTO:+0000
TZNAME:UTC
DTSTART:20180101T000000
END:STANDARD
END:VTIMEZONE
BEGIN:VEVENT
DTSTART;VALUE=DATE:20190205
DTEND;VALUE=DATE:20190206
DTSTAMP:20260421T224315
CREATED:20180816T184159Z
LAST-MODIFIED:20180816T184159Z
UID:881-1549324800-1549411199@www.calsprogram.org
SUMMARY:Trauma Module: Osseo\, WI
DESCRIPTION:Register for this course.
URL:https://www.calsprogram.org/event/trauma-module-osseo-wi/
LOCATION:MN
CATEGORIES:Trauma Module,Wisconsin
END:VEVENT
BEGIN:VEVENT
DTSTART;VALUE=DATE:20190205
DTEND;VALUE=DATE:20190206
DTSTAMP:20260421T224315
CREATED:20180816T184320Z
LAST-MODIFIED:20180816T184320Z
UID:884-1549324800-1549411199@www.calsprogram.org
SUMMARY:Trauma Module: LOCATION TBD
DESCRIPTION:Register for this course.
URL:https://www.calsprogram.org/event/trauma-module-location-tbd-3/
LOCATION:MN
CATEGORIES:Trauma Module
END:VEVENT
BEGIN:VEVENT
DTSTART;VALUE=DATE:20190206
DTEND;VALUE=DATE:20190208
DTSTAMP:20260421T224315
CREATED:20180816T184409Z
LAST-MODIFIED:20180816T184409Z
UID:886-1549411200-1549583999@www.calsprogram.org
SUMMARY:Provider Course: LOCATION TBD
DESCRIPTION:Register for this course.
URL:https://www.calsprogram.org/event/provider-course-location-tbd-3/
LOCATION:MN
CATEGORIES:Provider Course
END:VEVENT
BEGIN:VEVENT
DTSTART;VALUE=DATE:20190206
DTEND;VALUE=DATE:20190208
DTSTAMP:20260421T224315
CREATED:20180816T184533Z
LAST-MODIFIED:20180816T184533Z
UID:888-1549411200-1549583999@www.calsprogram.org
SUMMARY:Provider Course: Osseo\, WI
DESCRIPTION:Register for this course.
URL:https://www.calsprogram.org/event/provider-course-osseo-wi/
LOCATION:MN
CATEGORIES:Provider Course,Wisconsin
END:VEVENT
BEGIN:VEVENT
DTSTART;VALUE=DATE:20190218
DTEND;VALUE=DATE:20190219
DTSTAMP:20260421T224315
CREATED:20180816T184657Z
LAST-MODIFIED:20180816T184657Z
UID:890-1550448000-1550534399@www.calsprogram.org
SUMMARY:Trauma Module: Slayton\, MN
DESCRIPTION:Register for this course.
URL:https://www.calsprogram.org/event/trauma-module-slayton-mn/
LOCATION:MN
CATEGORIES:Minnesota,Trauma Module
END:VEVENT
BEGIN:VEVENT
DTSTART;VALUE=DATE:20190219
DTEND;VALUE=DATE:20190221
DTSTAMP:20260421T224315
CREATED:20180816T184812Z
LAST-MODIFIED:20180816T184812Z
UID:893-1550534400-1550707199@www.calsprogram.org
SUMMARY:Provider Course: Slayton\, MN
DESCRIPTION:Register for this course.
URL:https://www.calsprogram.org/event/provider-course-slayton-mn/
LOCATION:MN
CATEGORIES:Minnesota,Provider Course
END:VEVENT
END:VCALENDAR