BEGIN:VCALENDAR
VERSION:2.0
PRODID:-//CALS Program | Emergency Medical Training for Rural Healthcare Teams - ECPv6.15.20//NONSGML v1.0//EN
CALSCALE:GREGORIAN
METHOD:PUBLISH
X-ORIGINAL-URL:https://www.calsprogram.org
X-WR-CALDESC:Events for CALS Program | Emergency Medical Training for Rural Healthcare Teams
REFRESH-INTERVAL;VALUE=DURATION:PT1H
X-Robots-Tag:noindex
X-PUBLISHED-TTL:PT1H
BEGIN:VTIMEZONE
TZID:UTC
BEGIN:STANDARD
TZOFFSETFROM:+0000
TZOFFSETTO:+0000
TZNAME:UTC
DTSTART:20180101T000000
END:STANDARD
END:VTIMEZONE
BEGIN:VEVENT
DTSTART;VALUE=DATE:20190603
DTEND;VALUE=DATE:20190604
DTSTAMP:20260421T110213
CREATED:20180816T193734Z
LAST-MODIFIED:20180816T193734Z
UID:932-1559520000-1559606399@www.calsprogram.org
SUMMARY:Trauma Module: Moose Lake\, MN
DESCRIPTION:Register for Course.
URL:https://www.calsprogram.org/event/trauma-module-moose-lake-mn/
LOCATION:MN
CATEGORIES:Minnesota,Trauma Module
END:VEVENT
BEGIN:VEVENT
DTSTART;VALUE=DATE:20190604
DTEND;VALUE=DATE:20190606
DTSTAMP:20260421T110213
CREATED:20180816T193734Z
LAST-MODIFIED:20180816T193734Z
UID:933-1559606400-1559779199@www.calsprogram.org
SUMMARY:Provider Course: Moose Lake\, MN
DESCRIPTION:Register for Course.
URL:https://www.calsprogram.org/event/provider-course-moose-lake-mn/
LOCATION:MN
CATEGORIES:Minnesota,Provider Course
END:VEVENT
BEGIN:VEVENT
DTSTART;TZID=UTC:20190610T160000
DTEND;TZID=UTC:20190610T203000
DTSTAMP:20260421T110213
CREATED:20190322T163312Z
LAST-MODIFIED:20190322T163312Z
UID:3640-1560182400-1560198600@www.calsprogram.org
SUMMARY:Trauma Module:  Malta\, MT  June 10\, 2019
DESCRIPTION:This course is now FULL — to get on the waiting list contact dana.bies@calsprogram.org
URL:https://www.calsprogram.org/event/trauma-module-malta-mt-june-10-2019/
LOCATION:MN
CATEGORIES:Montana,Trauma Module
END:VEVENT
BEGIN:VEVENT
DTSTART;VALUE=DATE:20190611
DTEND;VALUE=DATE:20190613
DTSTAMP:20260421T110213
CREATED:20190322T163808Z
LAST-MODIFIED:20190322T163808Z
UID:3643-1560211200-1560383999@www.calsprogram.org
SUMMARY:Provider Course: Malta\, MT  June 11-12\, 2019
DESCRIPTION:This course location is now FULL — to get on the waiting list contact dana.bies@calsprogram.org.
URL:https://www.calsprogram.org/event/provider-course-malta-mt-june-11-12-2019/
LOCATION:MN
CATEGORIES:Montana,Provider Course
END:VEVENT
BEGIN:VEVENT
DTSTART;VALUE=DATE:20190625
DTEND;VALUE=DATE:20190626
DTSTAMP:20260421T110213
CREATED:20180816T193736Z
LAST-MODIFIED:20180816T193736Z
UID:934-1561420800-1561507199@www.calsprogram.org
SUMMARY:Trauma Module: Hallock\, MN
DESCRIPTION:Register for this course. \n 
URL:https://www.calsprogram.org/event/trauma-module-hallock-mn/
LOCATION:MN
CATEGORIES:Minnesota,Trauma Module
END:VEVENT
BEGIN:VEVENT
DTSTART;VALUE=DATE:20190626
DTEND;VALUE=DATE:20190628
DTSTAMP:20260421T110213
CREATED:20180816T193736Z
LAST-MODIFIED:20180816T193736Z
UID:935-1561507200-1561679999@www.calsprogram.org
SUMMARY:Provider Course: Hallock\, MN
DESCRIPTION:Register for this course
URL:https://www.calsprogram.org/event/provider-course-hallock-mn/
LOCATION:MN
CATEGORIES:Minnesota,Provider Course
END:VEVENT
END:VCALENDAR