BEGIN:VCALENDAR
VERSION:2.0
PRODID:-//CALS Program | Emergency Medical Training for Rural Healthcare Teams - ECPv6.15.20//NONSGML v1.0//EN
CALSCALE:GREGORIAN
METHOD:PUBLISH
X-ORIGINAL-URL:https://www.calsprogram.org
X-WR-CALDESC:Events for CALS Program | Emergency Medical Training for Rural Healthcare Teams
REFRESH-INTERVAL;VALUE=DURATION:PT1H
X-Robots-Tag:noindex
X-PUBLISHED-TTL:PT1H
BEGIN:VTIMEZONE
TZID:UTC
BEGIN:STANDARD
TZOFFSETFROM:+0000
TZOFFSETTO:+0000
TZNAME:UTC
DTSTART:20180101T000000
END:STANDARD
END:VTIMEZONE
BEGIN:VEVENT
DTSTART;TZID=UTC:20191008T150000
DTEND;TZID=UTC:20191008T183000
DTSTAMP:20260421T121132
CREATED:20190204T233507Z
LAST-MODIFIED:20190204T233507Z
UID:3509-1570546800-1570559400@www.calsprogram.org
SUMMARY:LOCATION CHANGE -- Trauma Module:  Osseo\, WI  October 8\, 2019
DESCRIPTION:Register for Course
URL:https://www.calsprogram.org/event/trauma-module-stanley-wi-october-8-2019/
LOCATION:MN
CATEGORIES:Trauma Module,Wisconsin
END:VEVENT
BEGIN:VEVENT
DTSTART;TZID=UTC:20191008T170000
DTEND;TZID=UTC:20191008T203000
DTSTAMP:20260421T121132
CREATED:20190204T233717Z
LAST-MODIFIED:20190204T233717Z
UID:3513-1570554000-1570566600@www.calsprogram.org
SUMMARY:Trauma Module:  Perham\, MN  October 8\, 2019
DESCRIPTION:Register for Course.
URL:https://www.calsprogram.org/event/trauma-module-perham-mn-october-8-2019/
LOCATION:MN
CATEGORIES:Minnesota,Trauma Module
END:VEVENT
BEGIN:VEVENT
DTSTART;TZID=UTC:20191009T070000
DTEND;TZID=UTC:20191010T170000
DTSTAMP:20260421T121132
CREATED:20190204T233810Z
LAST-MODIFIED:20190204T233810Z
UID:3515-1570604400-1570726800@www.calsprogram.org
SUMMARY:Provider Course:  Perham\, MN October 9-10\, 2019
DESCRIPTION:Register for Course.
URL:https://www.calsprogram.org/event/provider-course-perham-mn-october-9-10-2019/
LOCATION:MN
CATEGORIES:Minnesota,Provider Course
END:VEVENT
BEGIN:VEVENT
DTSTART;TZID=UTC:20191009T080000
DTEND;TZID=UTC:20191010T170000
DTSTAMP:20260421T121132
CREATED:20190204T233552Z
LAST-MODIFIED:20190204T233552Z
UID:3511-1570608000-1570726800@www.calsprogram.org
SUMMARY:LOCATION CHANGE -- Provider Course:  Osseo\, WI  October 9-10 2019
DESCRIPTION:Register for Course
URL:https://www.calsprogram.org/event/provider-course-stanley-wi-october-9-10-2019/
LOCATION:MN
CATEGORIES:Provider Course,Wisconsin
END:VEVENT
BEGIN:VEVENT
DTSTART;TZID=UTC:20191022T170000
DTEND;TZID=UTC:20191022T203000
DTSTAMP:20260421T121132
CREATED:20190204T233921Z
LAST-MODIFIED:20190204T233921Z
UID:3517-1571763600-1571776200@www.calsprogram.org
SUMMARY:Trauma Module:  Aitkin\, MN October 22\, 2019
DESCRIPTION:Register for Course.
URL:https://www.calsprogram.org/event/trauma-module-aitkin-mn-october-22-2019/
LOCATION:MN
CATEGORIES:Minnesota,Trauma Module
END:VEVENT
BEGIN:VEVENT
DTSTART;TZID=UTC:20191023T070000
DTEND;TZID=UTC:20191024T170000
DTSTAMP:20260421T121132
CREATED:20190204T234005Z
LAST-MODIFIED:20190204T234005Z
UID:3519-1571814000-1571936400@www.calsprogram.org
SUMMARY:Provider Course:  Aitkin\, MN  October 23-24\, 2019
DESCRIPTION:Register for Course.
URL:https://www.calsprogram.org/event/provider-course-aitkin-mn-october-23-24-2019/
LOCATION:MN
CATEGORIES:Minnesota,Provider Course
END:VEVENT
END:VCALENDAR