BEGIN:VCALENDAR
VERSION:2.0
PRODID:-//CALS Program | Emergency Medical Training for Rural Healthcare Teams - ECPv6.15.20//NONSGML v1.0//EN
CALSCALE:GREGORIAN
METHOD:PUBLISH
X-WR-CALNAME:CALS Program | Emergency Medical Training for Rural Healthcare Teams
X-ORIGINAL-URL:https://www.calsprogram.org
X-WR-CALDESC:Events for CALS Program | Emergency Medical Training for Rural Healthcare Teams
REFRESH-INTERVAL;VALUE=DURATION:PT1H
X-Robots-Tag:noindex
X-PUBLISHED-TTL:PT1H
BEGIN:VTIMEZONE
TZID:UTC
BEGIN:STANDARD
TZOFFSETFROM:+0000
TZOFFSETTO:+0000
TZNAME:UTC
DTSTART:20180101T000000
END:STANDARD
END:VTIMEZONE
BEGIN:VEVENT
DTSTART;TZID=UTC:20191104T170000
DTEND;TZID=UTC:20191104T203000
DTSTAMP:20260421T131915
CREATED:20190204T234102Z
LAST-MODIFIED:20190204T234102Z
UID:3521-1572886800-1572899400@www.calsprogram.org
SUMMARY:Trauma Module:  Ada\, MN  November 4\, 2019
DESCRIPTION:Register for Course.
URL:https://www.calsprogram.org/event/trauma-module-granite-falls-mn-november-4-2019/
LOCATION:MN
CATEGORIES:Minnesota,Trauma Module
END:VEVENT
BEGIN:VEVENT
DTSTART;TZID=UTC:20191105T070000
DTEND;TZID=UTC:20191106T170000
DTSTAMP:20260421T131915
CREATED:20190204T234151Z
LAST-MODIFIED:20190204T234151Z
UID:3523-1572937200-1573059600@www.calsprogram.org
SUMMARY:Provider Course:  Ada\, MN  November 5-6\, 2019
DESCRIPTION:Register for Course.
URL:https://www.calsprogram.org/event/provider-course-granite-falls-mn-november-5-6-2019/
LOCATION:MN
CATEGORIES:Minnesota,Provider Course
END:VEVENT
BEGIN:VEVENT
DTSTART;TZID=UTC:20191119T170000
DTEND;TZID=UTC:20191119T203000
DTSTAMP:20260421T131915
CREATED:20190715T220935Z
LAST-MODIFIED:20190715T220935Z
UID:3788-1574182800-1574195400@www.calsprogram.org
SUMMARY:Trauma Module: Marshall\, MN NOV 19 2019
DESCRIPTION:Course is FULL.  Contact dana.bies@calsprogram.org to get Wait Listed.
URL:https://www.calsprogram.org/event/trauma-module-marshall-mn-nov-18-2019/
LOCATION:MN
CATEGORIES:Minnesota,Trauma Module
END:VEVENT
BEGIN:VEVENT
DTSTART;TZID=UTC:20191120T070000
DTEND;TZID=UTC:20191121T170000
DTSTAMP:20260421T131915
CREATED:20190715T221314Z
LAST-MODIFIED:20190715T221314Z
UID:3792-1574233200-1574355600@www.calsprogram.org
SUMMARY:Provider Course: Marshall MN NOV 20-21 2019
DESCRIPTION:Course is FULL.  Contact dana.bies@calsprogram.org to get Wait Listed.
URL:https://www.calsprogram.org/event/provider-course-marshall-mn-nov-20-21-2019/
LOCATION:MN
CATEGORIES:Minnesota,Provider Course
END:VEVENT
END:VCALENDAR