BEGIN:VCALENDAR
VERSION:2.0
PRODID:-//CALS Program | Emergency Medical Training for Rural Healthcare Teams - ECPv6.15.20//NONSGML v1.0//EN
CALSCALE:GREGORIAN
METHOD:PUBLISH
X-WR-CALNAME:CALS Program | Emergency Medical Training for Rural Healthcare Teams
X-ORIGINAL-URL:https://www.calsprogram.org
X-WR-CALDESC:Events for CALS Program | Emergency Medical Training for Rural Healthcare Teams
REFRESH-INTERVAL;VALUE=DURATION:PT1H
X-Robots-Tag:noindex
X-PUBLISHED-TTL:PT1H
BEGIN:VTIMEZONE
TZID:UTC
BEGIN:STANDARD
TZOFFSETFROM:+0000
TZOFFSETTO:+0000
TZNAME:UTC
DTSTART:20190101T000000
END:STANDARD
END:VTIMEZONE
BEGIN:VEVENT
DTSTART;TZID=UTC:20200504T140000
DTEND;TZID=UTC:20200504T173000
DTSTAMP:20260421T235254
CREATED:20191002T193215Z
LAST-MODIFIED:20191002T193215Z
UID:4001-1588600800-1588613400@www.calsprogram.org
SUMMARY:Trauma Module: Stanley\, WI MAY 4 2020 CANCELLED
DESCRIPTION:Register for this course
URL:https://www.calsprogram.org/event/trauma-module-osseo-wi-may-13-2020/
LOCATION:MN
CATEGORIES:Trauma Module,Wisconsin
END:VEVENT
BEGIN:VEVENT
DTSTART;TZID=UTC:20200505T070000
DTEND;TZID=UTC:20200506T170000
DTSTAMP:20260421T235254
CREATED:20191002T193319Z
LAST-MODIFIED:20191002T193319Z
UID:4003-1588662000-1588784400@www.calsprogram.org
SUMMARY:2-day Provider Course: Stanley\, WI MAY 5-6 2020 CANCELLED
DESCRIPTION:Register for this course
URL:https://www.calsprogram.org/event/2-day-provider-course-osseo-wi-may-14-15-2020/
LOCATION:MN
CATEGORIES:Provider Course,Wisconsin
END:VEVENT
BEGIN:VEVENT
DTSTART;TZID=UTC:20200507T070000
DTEND;TZID=UTC:20200508T170000
DTSTAMP:20260421T235254
CREATED:20200203T190718Z
LAST-MODIFIED:20200203T190718Z
UID:4147-1588834800-1588957200@www.calsprogram.org
SUMMARY:Provider Course:  May 7-8 2020  Houlton\, ME CANCELLED
DESCRIPTION:Register for this course
URL:https://www.calsprogram.org/event/provider-course-may-7-8-2020-houlton-me/
LOCATION:MN
CATEGORIES:Maine,Provider Course
END:VEVENT
BEGIN:VEVENT
DTSTART;TZID=UTC:20200512T170000
DTEND;TZID=UTC:20200512T203000
DTSTAMP:20260421T235254
CREATED:20190416T205220Z
LAST-MODIFIED:20190416T205220Z
UID:3659-1589302800-1589315400@www.calsprogram.org
SUMMARY:Trauma Module: Pipestone\, MN -- May 12\, 2020 CANCELLED/MERGED @ Marshall AUG 11
DESCRIPTION:Register for Course.
URL:https://www.calsprogram.org/event/trauma-module-pipestone-mn-may-13-2020/
LOCATION:MN
CATEGORIES:Minnesota,Trauma Module
END:VEVENT
BEGIN:VEVENT
DTSTART;VALUE=DATE:20200513
DTEND;VALUE=DATE:20200515
DTSTAMP:20260421T235254
CREATED:20190416T205609Z
LAST-MODIFIED:20190416T205609Z
UID:3661-1589328000-1589500799@www.calsprogram.org
SUMMARY:Provider Course: Pipestone\, MN -- May 13-14\, 2020 CANCELLED/MERGED @ Marshall AUG 12-13
DESCRIPTION:Register for Course.
URL:https://www.calsprogram.org/event/provider-course-pipestone-mn-may-14-15-2020/
LOCATION:MN
CATEGORIES:Minnesota,Provider Course
END:VEVENT
BEGIN:VEVENT
DTSTART;TZID=UTC:20200514T070000
DTEND;TZID=UTC:20200515T170000
DTSTAMP:20260421T235254
CREATED:20200203T190813Z
LAST-MODIFIED:20200203T190813Z
UID:4149-1589439600-1589562000@www.calsprogram.org
SUMMARY:Provider Course: May 14-15\, 2020 Springfield\, VT CANCELLED
DESCRIPTION:Register for this course
URL:https://www.calsprogram.org/event/provider-course-may-14-15-2020-springfield-vt/
LOCATION:MN
CATEGORIES:Maine,Provider Course
END:VEVENT
END:VCALENDAR